BEGIN:VCALENDAR
VERSION:2.0
PRODID:-//直伝チャンネル - ECPv5.16.4//NONSGML v1.0//EN
CALSCALE:GREGORIAN
METHOD:PUBLISH
X-WR-CALNAME:直伝チャンネル
X-ORIGINAL-URL:https://xr.jikiden.co.jp
X-WR-CALDESC:直伝チャンネル のイベント
BEGIN:VTIMEZONE
TZID:Asia/Tokyo
BEGIN:STANDARD
TZOFFSETFROM:+0900
TZOFFSETTO:+0900
TZNAME:JST
DTSTART:20170101T000000
END:STANDARD
END:VTIMEZONE
BEGIN:VEVENT
DTSTART;TZID=Asia/Tokyo:20170808T193000
DTEND;TZID=Asia/Tokyo:20170808T203000
DTSTAMP:20260421T190753
CREATED:20170728T000924Z
LAST-MODIFIED:20170728T001254Z
UID:1568-1502220600-1502224200@xr.jikiden.co.jp
SUMMARY:◇◇2部構成◇◇ 「日本の投資家の皆さんのために、とことんこだわって作られた新ファンド登場！」 &「楽天米国コア・アロケーション」のご紹介
DESCRIPTION:◇第1部◇\n「日本の投資家の皆さんのために、とことんこだわって作られた新ファンド登場！」\n\nこの度、イギリスの資産運用老舗のシュローダーより、日本円で運用をお考えの方のために、\nとことんこだわって開発された新ファンドが登場しました！\n\nその名も、「シュローダーYENターゲット」。\n\n当ファンドは、信託報酬（年率税込1.1124％）控除前で、 日本の円短期金利を中長期的に年率4％程度上回る収益水準を目指して運用します。\n\n当セミナーでは、当ファンドの投資対象や価格下落を抑制する具体的な方針、\n類似ファンドの過去実績について、わかりやすく解説します。\n\n◇第2部◇\n「楽天米国コア・アロケーション」のご紹介\n\n「楽天米国コア・アロケーション」の特徴についてご説明いたします。\n\n投資を考える上で有望な米国資産。\nその中でも代表的な資産である債券、株式、リートを主な投資対象とします。\n\n特に、市場の変動が高まった場合には、資産配分を調整し、\n基準価額の変動リスクを抑制することを目指します。\n\n国内資産と組み合わせて国際分散投資を実践するためのコア商品としても\n活用できるファンドです。\n\n皆様のお申込みをお待ちしております。\n\n \n\n講師紹介\n◆茅野 文香 氏\nシュローダー・インベストメント・マネジメント株式会社\n投資信託営業部　リレーションシップマネジャー\n\n国内系運用会社を経て、2010年にシュローダー・インベストメント・マネジメント株式会社に入社。投資信託営業部に所属し、主に個人投資家向け投資信託に関する商品企画・開発・提案および販売促進業務等に従事。全国のセミナーや勉強会において講師としても活躍中。\n\n◆望月 孝則 氏\n楽天投信投資顧問株式会社　営業部長\n\n米系信託銀行、BNPパリバインベストメント・パートナーズを経て現職。資産運用業務に14年従事。 ジョージ・ワシントン大学エリオット国際関係大学院卒。 \n\n■参加資格\n楽天証券の口座をお持ちのお客様\n\n参加お申し込みはこちら
URL:https://xr.jikiden.co.jp/schedule/%e2%97%87%e2%97%872%e9%83%a8%e6%a7%8b%e6%88%90%e2%97%87%e2%97%87-%e3%80%8c%e6%97%a5%e6%9c%ac%e3%81%ae%e6%8a%95%e8%b3%87%e5%ae%b6%e3%81%ae%e7%9a%86%e3%81%95%e3%82%93%e3%81%ae%e3%81%9f%e3%82%81%e3%81%ab
CATEGORIES:投資信託
END:VEVENT
END:VCALENDAR