BEGIN:VCALENDAR
VERSION:2.0
PRODID:-//直伝チャンネル - ECPv5.16.4//NONSGML v1.0//EN
CALSCALE:GREGORIAN
METHOD:PUBLISH
X-WR-CALNAME:直伝チャンネル
X-ORIGINAL-URL:https://xr.jikiden.co.jp
X-WR-CALDESC:直伝チャンネル のイベント
BEGIN:VTIMEZONE
TZID:Asia/Tokyo
BEGIN:STANDARD
TZOFFSETFROM:+0900
TZOFFSETTO:+0900
TZNAME:JST
DTSTART:20150101T000000
END:STANDARD
END:VTIMEZONE
BEGIN:VEVENT
DTSTART;TZID=Asia/Tokyo:20150819T200000
DTEND;TZID=Asia/Tokyo:20150819T213000
DTSTAMP:20260421T184507
CREATED:20150807T060158Z
LAST-MODIFIED:20150807T060158Z
UID:485-1440014400-1440019800@xr.jikiden.co.jp
SUMMARY:「今日から使える！高野やすのり式テクニカル分析」(全3回) 第2回 トレンド・ラインはこう使え！
DESCRIPTION:当社セミナーで最もご好評をいただいているシリーズの一つ、高野やすのりのテクニカル分析セミナーを今期も開催します。\n\n第2回目は、高野やすのりが最も重視している「トレンド・ライン分析」について、チャートに実際にラインを引きながらご紹介します。また一目均衡表とトレンド・ライン分析を組み合わせて、ポジションのエントリー、利食い、損切りのポイントの判断などについてもお話します。\n\n全3回を見ていただくことで、”高野やすのりの分析手法”が理解できるとともに、ご自身でチャートを使って売買の判断ができるようになることを目指します。\n\n「テクニカル分析を学びたいけど何から始めたらいいかわからない」\n「テクニカル分析を使ってトレードしたい」\nといったごく初心者の方にも、今日から使えるテクニカル分析を学んでいただけるおススメのセミナーです。\n\n■こんな方にオススメ\n・テクニカル分析について学びたい方\n・テクニカル分析を活用してトレードしたいという方\n・高野やすのりの「プライムストラテジー」のファンでトレードの参考にしているという方\n \n講師紹介\n高野 やすのり（たかの やすのり）\nＦＸプライム byGMOチーフ・ストラテジスト\n\nチェース・マンハッタン銀行（現JPモルガン・チェース銀行）、スイス・ユニオン銀行（現UBS銀行）、ファースト・シカゴ銀行（現JPモルガン・チェース銀行）などでインターバンクディーラー業務に従事。20年以上に亘り、外国為替市場の第一線で活躍。\n2004年より為替市場の中の様々な立場で長年培ってきた経験を生かし、インターネット上のコンテンツや、ラジオ、セミナーを通じて正しいFXの知識や、FXの魅力を広める為の活動を行う。\n2009年2月から当社勤務　現　株式会社FXプライムbyGMO　チーフ・ストラテジスト\nNPO法人日本テクニカルアナリスト協会　認定テクニカルアナリスト \n\n■定員\n1\,000名　(先着順とさせていただきます)\n\n申し込みはこちら
URL:https://xr.jikiden.co.jp/schedule/%e3%80%8c%e4%bb%8a%e6%97%a5%e3%81%8b%e3%82%89%e4%bd%bf%e3%81%88%e3%82%8b%ef%bc%81%e9%ab%98%e9%87%8e%e3%82%84%e3%81%99%e3%81%ae%e3%82%8a%e5%bc%8f%e3%83%86%e3%82%af%e3%83%8b%e3%82%ab%e3%83%ab%e5%88%86-2
CATEGORIES:FX
END:VEVENT
END:VCALENDAR