BEGIN:VCALENDAR
VERSION:2.0
PRODID:-//直伝チャンネル - ECPv5.16.4//NONSGML v1.0//EN
CALSCALE:GREGORIAN
METHOD:PUBLISH
X-WR-CALNAME:直伝チャンネル
X-ORIGINAL-URL:https://xr.jikiden.co.jp
X-WR-CALDESC:直伝チャンネル のイベント
BEGIN:VTIMEZONE
TZID:Asia/Tokyo
BEGIN:STANDARD
TZOFFSETFROM:+0900
TZOFFSETTO:+0900
TZNAME:JST
DTSTART:20150101T000000
END:STANDARD
END:VTIMEZONE
BEGIN:VEVENT
DTSTART;TZID=Asia/Tokyo:20150618T193000
DTEND;TZID=Asia/Tokyo:20150618T210000
DTSTAMP:20260422T000126
CREATED:20150528T054739Z
LAST-MODIFIED:20150528T054739Z
UID:325-1434655800-1434661200@xr.jikiden.co.jp
SUMMARY:「利益を伸ばし、損失を抑える」売買手法の奥義習得セミナー　★参加特典つき！
DESCRIPTION:1）ポジションの利益拡大の失敗パターンとは？\n2）トレンド相場とレンジ相場を見極めるテクニッククとは？\n3）複数のテクニカルを使って「トレンド」を確認する方法とは？\n4）平均足の欠点を克服する 　（参加特典の「平均足改良版エクセルシート」の活用方法とは？）\n5）平均足ブレイクアウト手法の公開\n6）平均足ブレイクアウト手法のエントリー方法\n7）平均足ブレイクアウト手法の決済方法\n\n■講師紹介\n平野 朋之氏（株式会社トレードタイム）\n海外マーケット関連業務を経て、ネット証券にてFX事業全般の業務、自己売買部門でのディーラー業務、投資情報室にて日経225の情報発信、セミナー講師を務める。その後投資顧問会社を経て、マーケット情報発信する傍ら、オリジナル手法を使い自己トレードの実践中。\n\n■定員\n200名\n\n申し込みはこちら\n・資料は投資判断の情報提供を目的とするもので、投資勧誘を目的としたものではありません。また、内容については信頼すべきと判断した情報に基づいていますが、その正確性を保証するものではありません。\n・投資の最終判断は、ご自身で行っていただきますよう、お願いいたします。\n・各セミナーの内容は、セミナー講師の個人的相場観に基づくものであり、弊社はその内容の正確性について保証するものではありません。\n・各セミナーの内容については、予告なく変更する場合がございます。その旨ご了承ください。\n※本セミナーでは、セミナーでご紹介する商品等の勧誘を行うことがありますので、あらかじめご了承下さい。\n■個人情報の取扱い\n株式会社efx.com証券（以下「当社」）は、個人情報を以下の目的で利用させていただきます。\n1.当社が行う店頭デリバティブ取引の情報提供サービス及びこれに付随する業務等を行うため\n2.取引所外国為替証拠金取引等の情報提供サービス及びこれに付随する業務、またはその勧誘を行うため\n3.当社の店頭デリバティブ取引業務及び取引所外国為替証拠金取引業務等の提供に関する勧誘行為の妥当性・適切性を判断するため\n4.当社が顧客開拓・勧誘等を含む営業またはマーケティング活動を行うため\n5.市場調査・データ分析・アンケートを利用して、当社が提供する店頭デリバティブ取引業務及び取引所外国為替証拠金取引業務等の調査・開発を行うため\n6.その他、当社のデモ口座利用を適切かつ円滑に履行するための一切の目的\n\n当社より勧誘等を含むメール及び電話等の受取りを停止する場合は下記までお知らせください。\n【連絡先】カスタマー事業部　(Email)info@sec-efx.com　(TEL)03-3502-0611
URL:https://xr.jikiden.co.jp/schedule/%e3%80%8c%e5%88%a9%e7%9b%8a%e3%82%92%e4%bc%b8%e3%81%b0%e3%81%97%e3%80%81%e6%90%8d%e5%a4%b1%e3%82%92%e6%8a%91%e3%81%88%e3%82%8b%e3%80%8d%e5%a3%b2%e8%b2%b7%e6%89%8b%e6%b3%95%e3%81%ae%e5%a5%a5%e7%be%a9
CATEGORIES:FX
END:VEVENT
END:VCALENDAR