BEGIN:VCALENDAR
VERSION:2.0
PRODID:-//直伝チャンネル - ECPv5.16.4//NONSGML v1.0//EN
CALSCALE:GREGORIAN
METHOD:PUBLISH
X-WR-CALNAME:直伝チャンネル
X-ORIGINAL-URL:https://xr.jikiden.co.jp
X-WR-CALDESC:直伝チャンネル のイベント
BEGIN:VTIMEZONE
TZID:Asia/Tokyo
BEGIN:STANDARD
TZOFFSETFROM:+0900
TZOFFSETTO:+0900
TZNAME:JST
DTSTART:20170101T000000
END:STANDARD
END:VTIMEZONE
BEGIN:VEVENT
DTSTART;TZID=Asia/Tokyo:20170802T200000
DTEND;TZID=Asia/Tokyo:20170802T213000
DTSTAMP:20260420T071154
CREATED:20170721T002008Z
LAST-MODIFIED:20170721T002008Z
UID:1552-1501704000-1501709400@xr.jikiden.co.jp
SUMMARY:「高野やすのり、何はなくともトレンド・ライン」～基本にして究極のテクニカル分析
DESCRIPTION:■セミナー概要\nトレードの道しるべとなるテクニカル分析。そのテクニカル分析＝チャート分析の中でも、最も基本的であり、かつ最も重要なものがトレンド・ライン分析です。\n\n本来真っ先に学ぶべきテクニカル分析のすべての基本であるにも関わらず、その単純な構造、見た目の地味さなどから軽んじられ、出版物やセミナーで取り上げられる機会が少ないトレンドライン分析ですが、高野やすのりにとっては、ディーラー人生を支えられてきた大切な宝物です。\n\n90分という限られた時間ですが、ぜひ一生使えるトレンドラインについて学びましょう。\n\n※本セミナーで使用する資料を、開催当日にあらかじめマーケット情報(お客様専用ページ)のTOPにご用意いたします。ＦＸプライムｂｙＧＭＯの口座をお持ちのお客様は、事前にセミナー資料をダウンロードいただけます。詳細はこちら＞＞\n\n毎日、具体的なトレード戦略をプライムストラテジーで配信中！\nhttps://www.fxprime.com/market/strategy_movie.html\n\nセミナーを受講し、毎日プライムストラテジーを視聴してトレードを続ければ、3か月後にはきっとトレード結果が変わるはずです。 \n\n■こんな方にオススメ\n・テクニカル分析を使用して取引戦略を立てられるようになりたい方\n・高野やすのりのファンの方、または高野やすのりのセミナーが好きな方\n\n \n講師紹介\n高野 やすのり（たかの やすのり）\nＦＸプライム byGMOチーフ・ストラテジスト\n\nチェース・マンハッタン銀行（現JPモルガン・チェース銀行）、スイス・ユニオン銀行（現UBS銀行）、ファースト・シカゴ銀行（現JPモルガン・チェース銀行）などでインターバンクディーラー業務に従事。20年以上に亘り、外国為替市場の第一線で活躍。\n2004年より為替市場の中の様々な立場で長年培ってきた経験を生かし、インターネット上のコンテンツや、ラジオ、セミナーを通じて正しいFXの知識や、FXの魅力を広める為の活動を行う。\n2009年2月から当社勤務　現　株式会社FXプライムbyGMO　チーフ・ストラテジスト\nNPO法人日本テクニカルアナリスト協会　認定テクニカルアナリスト\n \n\n\n■参加資格\nどなたでもお申込みいただけます\n\n■定員\n1000名　\n（本セミナーは先着順とさせて頂きますので、お早めにご応募下さい。）\n\n申し込みはこちら
URL:https://xr.jikiden.co.jp/schedule/%e3%80%8c%e9%ab%98%e9%87%8e%e3%82%84%e3%81%99%e3%81%ae%e3%82%8a%e3%80%81%e4%bd%95%e3%81%af%e3%81%aa%e3%81%8f%e3%81%a8%e3%82%82%e3%83%88%e3%83%ac%e3%83%b3%e3%83%89%e3%83%bb%e3%83%a9%e3%82%a4%e3%83%b3
CATEGORIES:FX
END:VEVENT
END:VCALENDAR