BEGIN:VCALENDAR
VERSION:2.0
PRODID:-//直伝チャンネル - ECPv5.16.4//NONSGML v1.0//EN
CALSCALE:GREGORIAN
METHOD:PUBLISH
X-WR-CALNAME:直伝チャンネル
X-ORIGINAL-URL:https://xr.jikiden.co.jp
X-WR-CALDESC:直伝チャンネル のイベント
BEGIN:VTIMEZONE
TZID:Asia/Tokyo
BEGIN:STANDARD
TZOFFSETFROM:+0900
TZOFFSETTO:+0900
TZNAME:JST
DTSTART:20170101T000000
END:STANDARD
END:VTIMEZONE
BEGIN:VEVENT
DTSTART;TZID=Asia/Tokyo:20170614T200000
DTEND;TZID=Asia/Tokyo:20170614T213000
DTSTAMP:20260420T071849
CREATED:20170525T231209Z
LAST-MODIFIED:20170525T231256Z
UID:1473-1497470400-1497475800@xr.jikiden.co.jp
SUMMARY:【柳澤浩の金融政策ウォッチ】『米FOMC直前＋米トランプ大統領の浮き沈み』2本立てセミナー～トランプドル高復活か？それともトランプドル高は幻想に変わったのか？～
DESCRIPTION:6月14日のFOMCでは、3月以来の追加利上げが予想されています。最近の米国経済指標の弱さや、トランプ政権の政治的混乱の拡大を受けて、利上げ見送りとの予想も増えつつある中、利上げは既定路線として行われると見て、その後の為替相場の行方を展望します。\n\n具体的には、利上げ後の為替相場の軌道に変化は起こるのか、それとも、これまでの延長線上の動きが継続するのかを検証する事に主眼を置きます。\n\n更には、トランプ政権の混乱を見つめ、果たして、トランプ政権は存続できるのか？トランプ政権は、今後、財政政策や、減税策を本当に実行出来るのか？をも勘案し、トランプ大統領誕生時の様なドル高相場が復活するのか？　それとも、最早、ドル高相場は幻想に変わってしまったのか等に関しても展望してまいります。\n\nご質問にも全力でお答えします！是非当日のオンラインセミナーへご参加いただき、チャットより柳澤へのご質問、どしどしお寄せ下さい。\n\nFXヂカラ強化セミナーを受講して、勝ち組FXトレーダーを目指しましょう！\n\n※本セミナーで使用する資料を、開催当日にあらかじめマーケット情報(お客様専用ページ)のTOPにご用意いたします。ＦＸプライムｂｙＧＭＯの口座をお持ちのお客様は、事前にセミナー資料をダウンロードいただけます。詳細はこちら＞＞\n\n毎日、具体的なトレード戦略をモーニングコールで配信中！\nhttps://www.fxprime.com/market/morning_call.html\n\nセミナーを受講し、毎日モーニングコールを視聴してトレードを続ければ、3か月後にはきっとトレード結果が変わるはずです。 \n\n■こんな方にオススメ\n・柳澤浩の「FXモーニングコール」のファンでトレードの参考にしているという方\n・ファンダメンタルズ分析を取り入れた取引をしたい、またはしている方\n・金利と為替相場の関係を知る事により、利益アップを図りたい方\n \n講師紹介\n柳澤 浩（やなぎさわ ひろし）\nＦＸプライム byGMOチーフ・アナリスト\n国際基督教大学（ＩＣＵ）教養学部卒\nプラザ合意の頃に、アムロ銀行（蘭）で為替ディーラー業務を開始。その後、ロイズ銀行（英）、ドレスナー銀行（独）等で、短期金融商品、債券、金利デリバティブ等のディーリングに従事。現在は、個人投資家の皆様の金融リテラシーの向上を図り、相場の楽しさを伝えるべく、当社にて為替情報コンテンツ『柳澤浩のわかりやすい外為道場』を配信中。現　株式会社ＦＸプライムbyGMOチーフ・アナリスト。 \n\n■参加資格\nどなたでもお申込みいただけます\n\n■定員\n500名\n（本セミナーは先着順とさせて頂きますので、お早めにご応募下さい。）\n\n申し込みはこちら
URL:https://xr.jikiden.co.jp/schedule/%e3%80%90%e6%9f%b3%e6%be%a4%e6%b5%a9%e3%81%ae%e9%87%91%e8%9e%8d%e6%94%bf%e7%ad%96%e3%82%a6%e3%82%a9%e3%83%83%e3%83%81%e3%80%91%e3%80%8e%e7%b1%b3fomc%e7%9b%b4%e5%89%8d%ef%bc%8b%e7%b1%b3%e3%83%88
CATEGORIES:FX
END:VEVENT
END:VCALENDAR