BEGIN:VCALENDAR
VERSION:2.0
PRODID:-//直伝チャンネル - ECPv5.16.4//NONSGML v1.0//EN
CALSCALE:GREGORIAN
METHOD:PUBLISH
X-WR-CALNAME:直伝チャンネル
X-ORIGINAL-URL:https://xr.jikiden.co.jp
X-WR-CALDESC:直伝チャンネル のイベント
BEGIN:VTIMEZONE
TZID:Asia/Tokyo
BEGIN:STANDARD
TZOFFSETFROM:+0900
TZOFFSETTO:+0900
TZNAME:JST
DTSTART:20150101T000000
END:STANDARD
END:VTIMEZONE
BEGIN:VEVENT
DTSTART;TZID=Asia/Tokyo:20150901T193000
DTEND;TZID=Asia/Tokyo:20150901T210000
DTSTAMP:20260421T050921
CREATED:20150821T070242Z
LAST-MODIFIED:20150821T070317Z
UID:510-1441135800-1441141200@xr.jikiden.co.jp
SUMMARY:オリンピック開催が経済や株式投資に与える影響について
DESCRIPTION:■セミナー概要\n【講師からひとこと】\n今回のセミナーでは、オリンピックが経済に与える波及効果、そして株式市場に与えるインパクトについてご説明します。また、財政面での教訓についても言及したいと思います。\nそして、私が現在注目している銘柄についても紹介します。\n\n皆さまのお申込みをお待ちしております。\n\n※本セミナーのカテゴリーは、外国株式です。\n\n■このような方におすすめです！\n・外国株式にご興味をお持ちの方\n\n■このようなことが学べます！\n・今後の投資戦略\n\n■講師紹介\n広瀬 隆雄 氏\nコンテクスチュアル・インベストメンツLLC マネージング・ディレクター\n\n1982年慶應義塾大学法学部卒業。1986年 三洋証券株式会社入社後、S.G.ウォーバーグ証券会社入社（現UBS証券）、ハンブレクト＆クイスト証券会社（現J.P.モルガン証券会社）と、常にADRに関連した業務に従事。 2003年にBRICsを中心としたエマージングマーケットに特化した投資顧問会社を設立、マネージング・ディレクターとして活躍。\n\n■参加資格\n楽天証券の口座をお持ちのお客様であればどなたでも原則無料でご参加いただけます。\n\n■参加方法\n8月28日（金）18：00以降にホームページログイン後のお知らせ画面、もしくはマーケットスピードのお客様情報画面、マーケットスピードのお客様情報画面、もしくは弊社にご登録いただいているメールアドレスにご連絡いたします。 （メールアドレス配信停止手続きをなさっているお客様にも配信いたしますので、あらかじめご了承のほどよろしくお願いいたします。）\n\n参加お申し込みはこちら
URL:https://xr.jikiden.co.jp/schedule/%e3%82%aa%e3%83%aa%e3%83%b3%e3%83%94%e3%83%83%e3%82%af%e9%96%8b%e5%82%ac%e3%81%8c%e7%b5%8c%e6%b8%88%e3%82%84%e6%a0%aa%e5%bc%8f%e6%8a%95%e8%b3%87%e3%81%ab%e4%b8%8e%e3%81%88%e3%82%8b%e5%bd%b1%e9%9f%bf
CATEGORIES:海外投資
END:VEVENT
END:VCALENDAR