BEGIN:VCALENDAR
VERSION:2.0
PRODID:-//直伝チャンネル - ECPv5.16.4//NONSGML v1.0//EN
CALSCALE:GREGORIAN
METHOD:PUBLISH
X-WR-CALNAME:直伝チャンネル
X-ORIGINAL-URL:https://xr.jikiden.co.jp
X-WR-CALDESC:直伝チャンネル のイベント
BEGIN:VTIMEZONE
TZID:Asia/Tokyo
BEGIN:STANDARD
TZOFFSETFROM:+0900
TZOFFSETTO:+0900
TZNAME:JST
DTSTART:20170101T000000
END:STANDARD
END:VTIMEZONE
BEGIN:VEVENT
DTSTART;TZID=Asia/Tokyo:20170728T193000
DTEND;TZID=Asia/Tokyo:20170728T200000
DTSTAMP:20260420T055213
CREATED:20170629T232304Z
LAST-MODIFIED:20170629T232304Z
UID:1529-1501270200-1501272000@xr.jikiden.co.jp
SUMMARY:グランシェフの魅力 - テーマが切り拓く成長株投資 -
DESCRIPTION:本セミナーでは、4回シリーズで『日本成長テーマフォーカス　愛称：グランシェフ』\nの魅力についてご紹介します。\n \n第1回では、「テーマの選定や運用上のメリット」についてご紹介します。\n\n一流のシェフが「旬の素材」を見つけ出すように「旬のテーマ」にフォーカスし成長株を\n発掘していくのが当ファンドの魅力の一つです。\n\nどのような考えで「テーマ」を選んでいるのか、「時間の経過とともに劣化していくテーマを\n入れ替えていくメリット」などについてご紹介します。\n \n第2回では、「AI（人工知能）を活用したグランシェフの運用」についてご紹介します。\n第3回以降は、選定されたテーマや個別銘柄についてご紹介していく予定です。\n\n皆様のお申込みをお待ちしております。\n\n \n\n講師紹介\n◆永田 芳樹 氏\n大和住銀投信投資顧問株式会社　シニアファンドマネージャー\n\n大手生命保険会社に11年間勤務した後、中小型株の魅力にひかれ、当分野の運用で定評のある大和住銀投信投資顧問に転職。機関投資家・アナリストの調査・訪問が少ない銘柄を中心に、靴底を減らしながら日本全国を飛び回っています。 ５年後に開花するような中長期の成長ポテンシャルを持つ銘柄を、市場が注目する前の割安な時期に発掘、投資することで、お客様の資産の安定成長に貢献できるよう全力を尽くしています。\n\n◆部奈 和洋 氏\n大和住銀投信投資顧問株式会社　シニアファンドマネージャー\n\n大和住銀投信投資顧問へ入社後、営業部門などを経て運用部門へ配属。“話して、見て、感じて”をモットーに、地方企業も含め、数多くのミーティングを行っています。永田ファンドマネージャーと共に、独自の調査による銘柄の発掘に努めています。中長期で成長する企業への投資を通じて、ファンドのパフォーマンスを上げられるよう精一杯努力します。\n \n\n■参加資格\n楽天証券の口座をお持ちのお客様\n\n参加お申し込みはこちら
URL:https://xr.jikiden.co.jp/schedule/%e3%82%b0%e3%83%a9%e3%83%b3%e3%82%b7%e3%82%a7%e3%83%95%e3%81%ae%e9%ad%85%e5%8a%9b-%e3%83%86%e3%83%bc%e3%83%9e%e3%81%8c%e5%88%87%e3%82%8a%e6%8b%93%e3%81%8f%e6%88%90%e9%95%b7%e6%a0%aa%e6%8a%95
CATEGORIES:投資信託
END:VEVENT
END:VCALENDAR