BEGIN:VCALENDAR
VERSION:2.0
PRODID:-//直伝チャンネル - ECPv5.16.4//NONSGML v1.0//EN
CALSCALE:GREGORIAN
METHOD:PUBLISH
X-WR-CALNAME:直伝チャンネル
X-ORIGINAL-URL:https://xr.jikiden.co.jp
X-WR-CALDESC:直伝チャンネル のイベント
BEGIN:VTIMEZONE
TZID:Asia/Tokyo
BEGIN:STANDARD
TZOFFSETFROM:+0900
TZOFFSETTO:+0900
TZNAME:JST
DTSTART:20170101T000000
END:STANDARD
END:VTIMEZONE
BEGIN:VEVENT
DTSTART;TZID=Asia/Tokyo:20170727T200000
DTEND;TZID=Asia/Tokyo:20170727T210000
DTSTAMP:20260420T025447
CREATED:20170706T230134Z
LAST-MODIFIED:20230831T083637Z
UID:1537-1501185600-1501189200@xr.jikiden.co.jp
SUMMARY:テクニカル基礎～簡単なのに実用的！「移動平均線」習得セミナー～
DESCRIPTION:移動平均線の仕組みが理解でき、それを利用したトレードの基本や簡単な応用テクニックなどが身に付きます。\n\n本当は買いたかったのに自信が無くて見送った、なんてご経験はありませんか？でも、そんな失敗もちょっとした物差しがあれば回避できることって多いんです。\n今回は、テクニカル分析のメジャーどころである「移動平均線」を使って、なんの規則性も無く見えるチャートの動きに対応してみましょう。 使用する移動平均線が1本の場合と2本の場合など、セミナー資料とリアルチャートの両方を使って丁寧に解説いたします。 \n\n\n \n■講師紹介\n齊藤トモラニ 氏（Win-invest Japan株式会社　代表取締役）\n\nFXスクール、Win-invest Japan株式会社の代表取締役\n通常は自社のFXスクールにて、受講生のトレードサポート、情報配信を行っている。 チャートの分析力と解りやすい講義にはファンも多く、トモラニの愛称で親しまれている。\n2011年にはパンローリング社より「トモラニが教える給料を10倍にするFX勝ちパターンを実現する極意」DVDも発売。\n2014年には同社より「FXデイトレード」を執筆。これには、ひまわり証券オリジナルテクニカル「HWBR」の基となるテクニカルの解説も掲載されている。 \n\n\n■定員\n500名\n\n申し込みはこちら
URL:https://xr.jikiden.co.jp/schedule/%e3%83%86%e3%82%af%e3%83%8b%e3%82%ab%e3%83%ab%e5%9f%ba%e7%a4%8e%e3%80%80%ef%bd%9e%e7%b0%a1%e5%8d%98%e3%81%aa%e3%81%ae%e3%81%ab%e5%ae%9f%e7%94%a8%e7%9a%84%ef%bc%81%e3%80%8c%e7%a7%bb%e5%8b%95%e5%b9%b3
CATEGORIES:その他
END:VEVENT
END:VCALENDAR