BEGIN:VCALENDAR
VERSION:2.0
PRODID:-//直伝チャンネル - ECPv5.16.4//NONSGML v1.0//EN
CALSCALE:GREGORIAN
METHOD:PUBLISH
X-WR-CALNAME:直伝チャンネル
X-ORIGINAL-URL:https://xr.jikiden.co.jp
X-WR-CALDESC:直伝チャンネル のイベント
BEGIN:VTIMEZONE
TZID:Asia/Tokyo
BEGIN:STANDARD
TZOFFSETFROM:+0900
TZOFFSETTO:+0900
TZNAME:JST
DTSTART:20170101T000000
END:STANDARD
END:VTIMEZONE
BEGIN:VEVENT
DTSTART;TZID=Asia/Tokyo:20170705T200000
DTEND;TZID=Asia/Tokyo:20170705T210000
DTSTAMP:20260420T011623
CREATED:20170623T073749Z
LAST-MODIFIED:20170623T073749Z
UID:1512-1499284800-1499288400@xr.jikiden.co.jp
SUMMARY:公認会計士に学ぶ！銘柄選択に役立つ！主要6業界を徹底解説！第6回
DESCRIPTION:インターネットの普及で激変「流通業界」について学ぼう！\n\nインターネットが普及して以来、革新が続いているのが流通業界です。\n\n歴史的に見ても、社会の変化とともに大きく進化しています。\n\nスーパー、百貨店、コンビニ、商業施設、通信販売。。。さまざまな業態があります。\nどの業種が特に魅力的なのでしょうか？\n\n皆様のお申込をお待ちしております。\n\n■このような方におすすめです！\n・株式取引を始めたばかりで、銘柄選びの基礎から学びたい方\n・どの業界、どの銘柄がいいのかわからない方\n・「業界研究」という言葉を聞いたことがあるけど、どうすればいいのかわからない方\n\n■このようなことが学べます！\n・「流通業界」について\n \n講師紹介\n日根野 健 氏\n公認会計士・税理士\n1979年　大阪生まれ\n1998年　大阪教育大学付属高校 平野校舎卒\n2002年　京都大学教育学部卒\n2003年　監査法人トーマツ 京都事務所 入社（2007年退社）\n2007年　株式会社アクションラーニングの代表取締役社長に就任\n2007年　日根野公認会計士事務所 京都で独立開業(現在）\n2008年　日根野公認会計士事務所 大阪事務所 次長(現在）\n学校経営を通して日本を良くするという志と、キャリアを活かして、「株の学校アクションラーニング」を創業（2007年）。株式投資に決算書をどう使うかを講義している。 \n株の学校アクションラーニング\n \n\n■参加資格\n楽天証券に口座をお持ちのお客様\n\n申し込みはこちら
URL:https://xr.jikiden.co.jp/schedule/%e5%85%ac%e8%aa%8d%e4%bc%9a%e8%a8%88%e5%a3%ab%e3%81%ab%e5%ad%a6%e3%81%b6%ef%bc%81%e9%8a%98%e6%9f%84%e9%81%b8%e6%8a%9e%e3%81%ab%e5%bd%b9%e7%ab%8b%e3%81%a4%ef%bc%81%e4%b8%bb%e8%a6%816%e6%a5%ad-6
CATEGORIES:日本株
END:VEVENT
END:VCALENDAR