BEGIN:VCALENDAR
VERSION:2.0
PRODID:-//直伝チャンネル - ECPv5.16.4//NONSGML v1.0//EN
CALSCALE:GREGORIAN
METHOD:PUBLISH
X-WR-CALNAME:直伝チャンネル
X-ORIGINAL-URL:https://xr.jikiden.co.jp
X-WR-CALDESC:直伝チャンネル のイベント
BEGIN:VTIMEZONE
TZID:Asia/Tokyo
BEGIN:STANDARD
TZOFFSETFROM:+0900
TZOFFSETTO:+0900
TZNAME:JST
DTSTART:20170101T000000
END:STANDARD
END:VTIMEZONE
BEGIN:VEVENT
DTSTART;TZID=Asia/Tokyo:20170809T193000
DTEND;TZID=Asia/Tokyo:20170809T210000
DTSTAMP:20260421T204759
CREATED:20170721T002400Z
LAST-MODIFIED:20170721T002526Z
UID:1553-1502307000-1502312400@xr.jikiden.co.jp
SUMMARY:【大人気企画】第10回「スパンモデル、スーパーボリンジャー～実践リアルタイムトレードコーチングセミナー～」
DESCRIPTION:柾木先生に、スパンモデル、スーパーボリンジャーのシグナルを有効活用したトレード方法を、両テクニカル分析を搭載した当社取引ツール「PrimeNavigator」を用いて解説いただきます。\n\nリアルタイムチャートを使ったより実践的なセミナーとなりますので、受講後、実際の取引にお役立ていただけます。※今回は通常より30分早く開始いたしますのでご注意ください。\n\n初めて受講される方、FX初心者のお客様は、専門用語が多いため、事前予習をお勧めいたします。\n\nまだＦＸプライムｂｙＧＭＯに口座を開設されていらっしゃらないお客様は、事前予習、復習のため、この機会に口座開設をご検討ください。\n\nすでにＦＸプライムｂｙＧＭＯの口座をお持ちのお客様は、当セミナーを繰り返しご視聴いただき、スキルを取得するため、ご自身のトレードで実践することをお勧めいたします。\n\n※本セミナーで使用する資料を、開催当日にあらかじめマーケット情報(お客様専用ページ)のTOPにご用意いたします。ＦＸプライムｂｙＧＭＯの口座をお持ちのお客様は、事前にセミナー資料をダウンロードいただけます。詳細はこちら＞＞\n\n毎日、具体的なトレード戦略をモーニングコールで配信中！\nhttps://www.fxprime.com/market/morning_call.html\n\nセミナーを受講し、毎日プライムストラテジーを視聴してトレードを続ければ、3か月後にはきっとトレード結果が変わるはずです。\n\n■こんな方にオススメ\n・スパンモデル、スーパーボリンジャーの基本を学びたいという方\n・スパンモデル、スーパーボリンジャーを活用して取引されたいという方\n・スパンモデル、スーパーボリンジャーでのリアルトレードにご興味のある方\n \n講師紹介\n柾木　利彦（まさき　としひこ）氏\n1980年に大阪大学を卒業後、三和銀行（現三菱東京UFJ銀行）に入行。1984年、ディーラー研修第一期生となり、ニューヨーク支店、東京本部のドル円チーフディーラーを経て、1992年『シティバンク』東京支店に移籍。外国為替部長として外銀最大級のトレーディングチームを率い活躍。その後、欧州系大手の『オランダ銀行』などで外国為替部長を務める傍ら、外資系金融機関出身者で初めての「東京市場委員会」副議長、「東京フォレックスクラブ」委員などを歴任。卓越した市場関連知識でもって東京外国為替市場の発展に貢献してきた。\n\n世界的な投資家であるジョージ・ソロス氏と共にフジテレビ『報道2001』に出演、テレビ・ラジオでレギュラー番組を数本持つなど活躍。また、日本経済新聞等主要マスメディアにて定期的に市場解説を担当、日本中に多くのファン層を捉えている。自身、過去24年に及ぶトレード経験に基づき、如何に生涯収益（キャリア・プロフィット）を伸ばすかに主眼を置いた独自のチャート分析（「スパンモデル」等）を確立。最近は、個人投資家に向けて自身の投資法を伝授することをライフワークとして精力的に取り組んでいる。 \n\n■定員\n2\,000名\n（本セミナーは先着順とさせて頂きますので、お早めにご応募ください。）\n\n申し込みはこちら
URL:https://xr.jikiden.co.jp/schedule/%e5%a4%a7%e4%ba%ba%e6%b0%97%e4%bc%81%e7%94%bb%e3%80%91%e7%ac%ac10%e5%9b%9e%e3%80%8c%e3%82%b9%e3%83%91%e3%83%b3%e3%83%a2%e3%83%87%e3%83%ab%e3%80%81%e3%82%b9%e3%83%bc%e3%83%91%e3%83%bc%e3%83%9c%e3%83%aa
CATEGORIES:FX
END:VEVENT
END:VCALENDAR