BEGIN:VCALENDAR
VERSION:2.0
PRODID:-//直伝チャンネル - ECPv5.16.4//NONSGML v1.0//EN
CALSCALE:GREGORIAN
METHOD:PUBLISH
X-WR-CALNAME:直伝チャンネル
X-ORIGINAL-URL:https://xr.jikiden.co.jp
X-WR-CALDESC:直伝チャンネル のイベント
BEGIN:VTIMEZONE
TZID:Asia/Tokyo
BEGIN:STANDARD
TZOFFSETFROM:+0900
TZOFFSETTO:+0900
TZNAME:JST
DTSTART:20150101T000000
END:STANDARD
END:VTIMEZONE
BEGIN:VEVENT
DTSTART;TZID=Asia/Tokyo:20150729T200000
DTEND;TZID=Asia/Tokyo:20150729T213000
DTSTAMP:20260420T190309
CREATED:20150710T063702Z
LAST-MODIFIED:20150710T063702Z
UID:445-1438200000-1438205400@xr.jikiden.co.jp
SUMMARY:小次郎講師出版記念オンラインセミナー 「FX資金・リスク管理方法と移動平均線大循環分析について」
DESCRIPTION:「日本に正しい投資教育を根付かせること」を信条としていらっしゃる\n”小次郎講師” こと 手塚　宏二氏が当社オンラインセミナーに初登場。\n\n「投資の学校」(https://toushi-school.net/)で多くの受講生をお持ちの小次郎講師に、「FX資金・リスク管理方法」と「移動平均線大循環分析」について分かりやすく解説いただきます。\n\n※本セミナーで使用する資料を、開催当日にあらかじめマーケット情報(お客様専用ページ)のTOPにご用意いたします。当社の口座をお持ちのお客様は、事前にセミナー資料をダウンロードいただけます。\n\n■こんな方にオススメ\n・資金・リスク管理方法を学びたいという方\n・移動平均線について学びたいという方\n・FX取引ルールを明確にしたいとお考えの方\n \n講師紹介\n手塚 宏二氏【通称：小次郎講師】\n手塚宏二事務所代表\n1954年（昭和29年）岡山県岡山市生まれ。早稲田大学政経学部中退金融会社で約30年間、外務員として営業を経て、ＩＴ会社へ転身。新しいチャート開発に取り組みながら、タートルズのトレード手法をベースとした小次郎講師流の手法による投資家教育を続ける。\n「投資の学校」(https://toushi-school.net/)では、初心者を短期間でプロに育成する超人気カリスマコーチとして熱血指導で定評。 \n\n■参加資格\nどなたでもお申込みいただけます\n\n■定員\n1000名\n（本セミナーは先着順とさせて頂きますので、お早めにご応募下さい。）\n\n申し込みはこちら
URL:https://xr.jikiden.co.jp/schedule/%e5%b0%8f%e6%ac%a1%e9%83%8e%e8%ac%9b%e5%b8%ab%e5%87%ba%e7%89%88%e8%a8%98%e5%bf%b5%e3%82%aa%e3%83%b3%e3%83%a9%e3%82%a4%e3%83%b3%e3%82%bb%e3%83%9f%e3%83%8a%e3%83%bc-%e3%80%8cfx%e8%b3%87%e9%87%91
CATEGORIES:FX
END:VEVENT
END:VCALENDAR