BEGIN:VCALENDAR
VERSION:2.0
PRODID:-//直伝チャンネル - ECPv5.16.4//NONSGML v1.0//EN
CALSCALE:GREGORIAN
METHOD:PUBLISH
X-WR-CALNAME:直伝チャンネル
X-ORIGINAL-URL:https://xr.jikiden.co.jp
X-WR-CALDESC:直伝チャンネル のイベント
BEGIN:VTIMEZONE
TZID:Asia/Tokyo
BEGIN:STANDARD
TZOFFSETFROM:+0900
TZOFFSETTO:+0900
TZNAME:JST
DTSTART:20150101T000000
END:STANDARD
END:VTIMEZONE
BEGIN:VEVENT
DTSTART;TZID=Asia/Tokyo:20150827T200000
DTEND;TZID=Asia/Tokyo:20150827T210000
DTSTAMP:20260421T002051
CREATED:20150820T213555Z
LAST-MODIFIED:20150820T213555Z
UID:501-1440705600-1440709200@xr.jikiden.co.jp
SUMMARY:山中康司のMT4セミナー「年末に向けた為替相場見通し 」
DESCRIPTION:■セミナー概要\n米国をはじめ主要国の金融政策、その他ファンダメンタルな材料、またテクニカルな面から年末に向けての為替相場について考えます。\n \n講師紹介\n山中　康司\n元大手外銀ディーラー\n\n1982年アメリカ銀行入行、1989年バイスプレジデント、1993年プロプライエタリー・マネージャー。1997年日興証券入社、1999年日興シティ信託銀行為替資金部次長。2002年アセンダント社設立・取締役。\nテクニカル分析と金融占星術を組み合わせた独自の為替予測を行い、各社にレポートを配信。セミナー講師やコンサルティング等もつとめている。内外の専門誌への執筆、セミナーDVD等多数発売\n \n\n■定員\n100名　★当日参加可能★\nオンライン（要事前申し込み）セミナー当日19：30より先着100名様が入室可能です。\n定員を上回った場合は視聴できませんので予めご了承ください。\n\n参加お申し込みはこちら
URL:https://xr.jikiden.co.jp/schedule/%e5%b1%b1%e4%b8%ad%e5%ba%b7%e5%8f%b8%e3%81%aemt4%e3%82%bb%e3%83%9f%e3%83%8a%e3%83%bc%e3%80%8c%e5%b9%b4%e6%9c%ab%e3%81%ab%e5%90%91%e3%81%91%e3%81%9f%e7%82%ba%e6%9b%bf%e7%9b%b8%e5%a0%b4%e8%a6%8b
CATEGORIES:FX
END:VEVENT
END:VCALENDAR