BEGIN:VCALENDAR
VERSION:2.0
PRODID:-//直伝チャンネル - ECPv5.16.4//NONSGML v1.0//EN
CALSCALE:GREGORIAN
METHOD:PUBLISH
X-WR-CALNAME:直伝チャンネル
X-ORIGINAL-URL:https://xr.jikiden.co.jp
X-WR-CALDESC:直伝チャンネル のイベント
BEGIN:VTIMEZONE
TZID:Asia/Tokyo
BEGIN:STANDARD
TZOFFSETFROM:+0900
TZOFFSETTO:+0900
TZNAME:JST
DTSTART:20170101T000000
END:STANDARD
END:VTIMEZONE
BEGIN:VEVENT
DTSTART;TZID=Asia/Tokyo:20170727T200000
DTEND;TZID=Asia/Tokyo:20170727T210000
DTSTAMP:20260420T042608
CREATED:20170713T221339Z
LAST-MODIFIED:20170713T221411Z
UID:1541-1501185600-1501189200@xr.jikiden.co.jp
SUMMARY:山中康司MT4セミナー「MT4のスクリプト機能を使ってみよう！」
DESCRIPTION:スクリプト？お客様の中には初めて聞く方もいるかもしれません。MT4に搭載されている自動売買(EA)やインディケーターに次ぐ、もう一つの機能がスクリプトです。 『スクリプト＝チャート上で1回だけ実行されるプログラム』の有効な使い方とは？\n知れば知るほど奥が深いMT4の世界を、山中先生にじっくり教えてもらいましょう。  \n \n講師紹介\n山中　康司\n元大手外銀ディーラー\n\n1982年アメリカ銀行入行、1989年バイスプレジデント、1993年プロプライエタリー・マネージャー。1997年日興証券入社、1999年日興シティ信託銀行為替資金部次長。2002年アセンダント社設立・取締役。\nテクニカル分析と金融占星術を組み合わせた独自の為替予測を行い、各社にレポートを配信。セミナー講師やコンサルティング等もつとめている。内外の専門誌への執筆、セミナーDVD等多数発売\n \n\n■定員\n100名　★当日参加可能★\nオンライン（要事前申し込み）セミナー当日19：30より先着100名様が入室可能です。\n定員を上回った場合は視聴できませんので予めご了承ください。\n\n参加お申し込みはこちら
URL:https://xr.jikiden.co.jp/schedule/%e5%b1%b1%e4%b8%ad%e5%ba%b7%e5%8f%b8mt4%e3%82%bb%e3%83%9f%e3%83%8a%e3%83%bc%e3%80%8cmt4%e3%81%ae%e3%82%b9%e3%82%af%e3%83%aa%e3%83%97%e3%83%88%e6%a9%9f%e8%83%bd%e3%82%92%e4%bd%bf%e3%81%a3%e3%81%a6
CATEGORIES:FX
END:VEVENT
END:VCALENDAR