BEGIN:VCALENDAR
VERSION:2.0
PRODID:-//直伝チャンネル - ECPv5.16.4//NONSGML v1.0//EN
CALSCALE:GREGORIAN
METHOD:PUBLISH
X-WR-CALNAME:直伝チャンネル
X-ORIGINAL-URL:https://xr.jikiden.co.jp
X-WR-CALDESC:直伝チャンネル のイベント
BEGIN:VTIMEZONE
TZID:Asia/Tokyo
BEGIN:STANDARD
TZOFFSETFROM:+0900
TZOFFSETTO:+0900
TZNAME:JST
DTSTART:20170101T000000
END:STANDARD
END:VTIMEZONE
BEGIN:VEVENT
DTSTART;TZID=Asia/Tokyo:20170810T210000
DTEND;TZID=Asia/Tokyo:20170810T223000
DTSTAMP:20260422T000617
CREATED:20170622T094215Z
LAST-MODIFIED:20170627T021417Z
UID:1498-1502398800-1502404200@xr.jikiden.co.jp
SUMMARY:揺れるトランプ政権、米国金利と欧州経済の行方は？　～今年後半からのFX取引戦略セミナー～
DESCRIPTION:定員　　 ：　500名\n参加費　 ：　無料\n参加方法 ：　このページ下部の申し込みボタンよりお申込みください\n\n米国では最近なにかとマイナスニュースの多いトランプ大統領、支持率もじわじわ低下している中で、為替に大きく影響を及ぼすのはやはりFOMCでの金利引き上げとバランスシート縮小でしょう。\n\n中長期的にはドル高が想定されるものの、舵取りを誤ればリスクオフによる株式＆為替暴落の危険性もあります。また、ブレグジットやテロ騒動など、ヨーロッパ情勢にも不安材料が多々あります。\n\n今回の直伝チャンネルセミナーでは、川合美智子先生にご登場いただき、今後の為替相場の展望と投資戦略について解説していただきます！\n\n川合先生はチャート分析に定評がありますが、テクニカルだけでなくファンダメンタルもしっかり把握しておられるので、講義内容は大変詳しくて分かりやすく、いつも大人気の講師です。今年後半から来年にかけての取引戦略立案にお役立てください！\n\n——————————\nさて、8月は例年取引閑散期、レートも動かずトレードも少なくなりがちですが、逆に今後の戦略をゆっくり練るチャンスでもあります！\n\nマネックス証券 FX PLUSの自動売買システム「オートレール」では、忙しくて相場を見ることができない時でも、事前に設定した条件で自動的に発注とトレールストップが機能し、利益の最大化と適切な損切を実行してくれます。\n\n8月のレンジ相場とその後のトレンド相場で活躍が期待できる「オートレール」、今回のセミナーではマネックス証券の安藤氏がオートレールの仕組みと、これまでのユーザー利用実績についてわかりやすく説明いたします。\n\nなお、当日ご参加の方から抽選で10名の方に、マネックス証券オリジナルグッズセットをプレゼント！オートレールのガイドブック付き。奮ってご参加ください！\n【ご参加は、以下のボタンよりお申込みください】\n申し込みはこちら\n\n※ご入力いただいた個人情報の取り扱いについては、当社プライバシーポリシーをご参照ください。\n【プライバシーポリシー（個人情報保護方針）】
URL:https://xr.jikiden.co.jp/schedule/%e6%8f%ba%e3%82%8c%e3%82%8b%e3%83%88%e3%83%a9%e3%83%b3%e3%83%97%e6%94%bf%e6%a8%a9%e3%80%81%e7%b1%b3%e5%9b%bd%e9%87%91%e5%88%a9%e3%81%a8%e6%ac%a7%e5%b7%9e%e7%b5%8c%e6%b8%88%e3%81%ae%e8%a1%8c%e6%96%b9
CATEGORIES:FX
END:VEVENT
END:VCALENDAR