BEGIN:VCALENDAR
VERSION:2.0
PRODID:-//直伝チャンネル - ECPv5.16.4//NONSGML v1.0//EN
CALSCALE:GREGORIAN
METHOD:PUBLISH
X-WR-CALNAME:直伝チャンネル
X-ORIGINAL-URL:https://xr.jikiden.co.jp
X-WR-CALDESC:直伝チャンネル のイベント
BEGIN:VTIMEZONE
TZID:Asia/Tokyo
BEGIN:STANDARD
TZOFFSETFROM:+0900
TZOFFSETTO:+0900
TZNAME:JST
DTSTART:20150101T000000
END:STANDARD
END:VTIMEZONE
BEGIN:VEVENT
DTSTART;TZID=Asia/Tokyo:20150826T200000
DTEND;TZID=Asia/Tokyo:20150826T213000
DTSTAMP:20260420T211229
CREATED:20150813T020027Z
LAST-MODIFIED:20150813T020027Z
UID:491-1440619200-1440624600@xr.jikiden.co.jp
SUMMARY:柳澤浩の「金融政策ウォッチ」～9月米利上げを織り込む為替市場（その行き着く先は？）～
DESCRIPTION:7月FOMC以降、9月利上げ開始への期待は日に日に強まっており、為替市場でも、利上げを織り込む動き、即ち、ドルを買う動きが強まっています。本セミナー開催週に行われる、米・ワイオミング州・ジャクソンホールでの金融政策シンポジウムや、翌週発表の8月雇用統計を経て、9月15・16日FOMCでの利上げ開始はすんなりと決まるのか？その期待感からドルはどこまで買われるのか？こう云ったテーマを掘り下げ、今後の取引のアイディアを探って行きたいと思います。\n\n■こんな方にオススメ\n・米国の利上げ時期が気になる方\n・各国金融政策を背景に中長期スタンスで取引したいという方\n・ファンダメンタルズ分析について学びたいという方\n \n講師紹介\n柳澤 浩（やなぎさわ ひろし）\nＦＸプライム byGMOチーフ・アナリスト\n国際基督教大学（ＩＣＵ）教養学部卒\nプラザ合意の頃に、アムロ銀行（蘭）で為替ディーラー業務を開始。その後、ロイズ銀行（英）、ドレスナー銀行（独）等で、短期金融商品、債券、金利デリバティブ等のディーリングに従事。現在は、個人投資家の皆様の金融リテラシーの向上を図り、相場の楽しさを伝えるべく、当社にて為替情報コンテンツ『柳澤浩のわかりやすい外為道場』を配信中。現　株式会社ＦＸプライムbyGMOチーフ・アナリスト。 \n\n■参加資格\nどなたでもお申込みいただけます\n\n■定員\n1000名\n（本セミナーは先着順とさせて頂きますので、お早めにご応募下さい。）\n\n申し込みはこちら
URL:https://xr.jikiden.co.jp/schedule/%e6%9f%b3%e6%be%a4%e6%b5%a9%e3%81%ae%e3%80%8c%e9%87%91%e8%9e%8d%e6%94%bf%e7%ad%96%e3%82%a6%e3%82%a9%e3%83%83%e3%83%81%e3%80%8d%ef%bd%9e9%e6%9c%88%e7%b1%b3%e5%88%a9%e4%b8%8a%e3%81%92%e3%82%92%e7%b9%94
CATEGORIES:FX
END:VEVENT
END:VCALENDAR