BEGIN:VCALENDAR
VERSION:2.0
PRODID:-//直伝チャンネル - ECPv5.16.4//NONSGML v1.0//EN
CALSCALE:GREGORIAN
METHOD:PUBLISH
X-WR-CALNAME:直伝チャンネル
X-ORIGINAL-URL:https://xr.jikiden.co.jp
X-WR-CALDESC:直伝チャンネル のイベント
BEGIN:VTIMEZONE
TZID:Asia/Tokyo
BEGIN:STANDARD
TZOFFSETFROM:+0900
TZOFFSETTO:+0900
TZNAME:JST
DTSTART:20170101T000000
END:STANDARD
END:VTIMEZONE
BEGIN:VEVENT
DTSTART;TZID=Asia/Tokyo:20170620T193000
DTEND;TZID=Asia/Tokyo:20170620T200000
DTSTAMP:20260420T030034
CREATED:20170609T071345Z
LAST-MODIFIED:20170609T073440Z
UID:1485-1497987000-1497988800@xr.jikiden.co.jp
SUMMARY:楽天証券ファンドアワード連続受賞！「自由演技」ファンドマネジャーが銘柄選定の極意を解説
DESCRIPTION:「自由」な運用スタイルと精度の高い銘柄選びで\nTOPIXを安定かつ大きく上回る高いリターンを出している\nアセットマネジメントOneの「DIAM国内株オープン（愛称：自由演技）」\n\n楽天ファンドスコアも各年で⑤を獲得をしている「自由演技」のファンドマネジャー酒井氏が、\n運用手法や相場動向について分かりやすく解説いたします。\n\n皆様のお申込みをお待ちしております。\n\n \n講師紹介\n酒井 義隆　氏\nアセットマネジメントOne株式会社　運用本部　株式運用グループ　ファンドマネジャーサービス室　営業課長\n\n2004年、興銀第一ライフ・アセットマネジメント株式会社（2008年DIAMアセットマネジメント株式会社に社名変更）に入社。2005年12月より国内株式やオルタナティブ運用のファンドマネジャーとして従事する。\n \n\n■参加資格\n楽天証券に口座をお持ちのお客様\n\n申し込みはこちら
URL:https://xr.jikiden.co.jp/schedule/%e6%a5%bd%e5%a4%a9%e8%a8%bc%e5%88%b8%e3%83%95%e3%82%a1%e3%83%b3%e3%83%89%e3%82%a2%e3%83%af%e3%83%bc%e3%83%89%e9%80%a3%e7%b6%9a%e5%8f%97%e8%b3%9e%ef%bc%81%e3%80%8c%e8%87%aa%e7%94%b1%e6%bc%94%e6%8a%80
CATEGORIES:投資信託
END:VEVENT
END:VCALENDAR