BEGIN:VCALENDAR
VERSION:2.0
PRODID:-//直伝チャンネル - ECPv5.16.4//NONSGML v1.0//EN
CALSCALE:GREGORIAN
METHOD:PUBLISH
X-WR-CALNAME:直伝チャンネル
X-ORIGINAL-URL:https://xr.jikiden.co.jp
X-WR-CALDESC:直伝チャンネル のイベント
BEGIN:VTIMEZONE
TZID:Asia/Tokyo
BEGIN:STANDARD
TZOFFSETFROM:+0900
TZOFFSETTO:+0900
TZNAME:JST
DTSTART:20150101T000000
END:STANDARD
END:VTIMEZONE
BEGIN:VEVENT
DTSTART;TZID=Asia/Tokyo:20150604T200000
DTEND;TZID=Asia/Tokyo:20150604T213000
DTSTAMP:20260420T020550
CREATED:20150603T010722Z
LAST-MODIFIED:20150603T010722Z
UID:346-1433448000-1433453400@xr.jikiden.co.jp
SUMMARY:欧州経済の近況ならびにギリシャ救済プログラムの延長期限到来がユーロに与える影響
DESCRIPTION:6/4(木)のインヴァスト証券Webセミナーは、広瀬隆雄氏をお迎えいたします！\n為替にも大きな影響が予想されるギリシャのユーロ圏脱退は、本当に起こるのでしょうか。延長、または脱退が市場へ与える影響、今後のシナリオについて解説いただきます。\n\n【講師コメント】\n今回のセミナーでは復活の兆しが見える欧州経済の近況を説明します。\nギリシャ救済プログラムの延長期限が6月末にやってきますが、再度それが延長されるのか、それともギリシャがユーロ圏を脱するのかが注目されています。\nそこで考えられるシナリオと、それがユーロに与える影響について解説したいと思います。\n\n■講師紹介\n広瀬　隆雄（ひろせ・たかお）氏\n投資顧問会社コンテクスチュアル・インベストメンツLLC代表\n慶応大学法学部卒業。三洋証券、S.G.ウォーバーグ証券（現UBS証券）、\nハンブレクト＆クィスト証券（現J.P.モルガン証券）を経て、\n2003年、投資顧問会社・コンテクスチュアル・インベストメンツLLCを設立。\n 長年、外国株式関連業務に携わっており、ＣＦＤ取引の対象となる海外の原資産に精通している。\n 米国カリフォルニア州サンフランシスコ郊外在住。\n\n■参加資格\nインヴァスト証券に口座をお持ちのお客様\n\n申し込みはこちら
URL:https://xr.jikiden.co.jp/schedule/%e6%ac%a7%e5%b7%9e%e7%b5%8c%e6%b8%88%e3%81%ae%e8%bf%91%e6%b3%81%e3%81%aa%e3%82%89%e3%81%b3%e3%81%ab%e3%82%ae%e3%83%aa%e3%82%b7%e3%83%a3%e6%95%91%e6%b8%88%e3%83%97%e3%83%ad%e3%82%b0%e3%83%a9%e3%83%a0
CATEGORIES:FX
END:VEVENT
END:VCALENDAR