BEGIN:VCALENDAR
VERSION:2.0
PRODID:-//直伝チャンネル - ECPv5.16.4//NONSGML v1.0//EN
CALSCALE:GREGORIAN
METHOD:PUBLISH
X-WR-CALNAME:直伝チャンネル
X-ORIGINAL-URL:https://xr.jikiden.co.jp
X-WR-CALDESC:直伝チャンネル のイベント
BEGIN:VTIMEZONE
TZID:Asia/Tokyo
BEGIN:STANDARD
TZOFFSETFROM:+0900
TZOFFSETTO:+0900
TZNAME:JST
DTSTART:20150101T000000
END:STANDARD
END:VTIMEZONE
BEGIN:VEVENT
DTSTART;TZID=Asia/Tokyo:20150826T193000
DTEND;TZID=Asia/Tokyo:20150826T210000
DTSTAMP:20260420T193526
CREATED:20150807T061032Z
LAST-MODIFIED:20150807T061051Z
UID:486-1440617400-1440622800@xr.jikiden.co.jp
SUMMARY:視聴者のみなさんのリクエストから5銘柄を厳選！気になる銘柄をリクエストしてください！
DESCRIPTION:■セミナー概要\n【講師からコメント】\n中国経済の減速、アメリカの利上げ、新興国からのマネー流出、ロシア経済の低迷などなど、リーマンショック後、長期にわたって徐々に回復してきた世界経済のトレンドが変わりつつあるように思います。\n\nこんなときにどのような銘柄を選択すればいいのでしょうか？\n\n今回は、視聴者のみなさんから気になる銘柄をリクエストしていただき、その中から、有望と予想される銘柄で、なおかつ、今の世界経済情勢に合っている銘柄を5社、紹介したいと思います。\n\nセミナー申込みの際に、次のことを記入してください。\n【1】今、気になっている銘柄（証券コードも要）※1人1社のみ\n【2】その銘柄が良いと思うポイント\n【3】その銘柄について心配なポイント\n\n皆様のお申込みをお待ちしております。\n\n※講師に解説をお願いしたい銘柄等は、ホームページログイン後、勉強会申込画面の「勉強会で説明して欲しいご質問事項等」の欄にご記入ください。\n\n■このような方におすすめです！\n・株式投資を始めたばかりで、銘柄の探し方を知りたい方\n・割安株を探している方\n・長期投資派の方\n\n■このようなことが学べます！\n・個別銘柄の診断方法\n \n講師紹介\n日根野 健 氏\n公認会計士・税理士\n1979年　大阪生まれ\n1998年　大阪教育大学付属高校 平野校舎卒\n2002年　京都大学教育学部卒\n2003年　監査法人トーマツ 京都事務所 入社（2007年退社）\n2007年　株式会社アクションラーニングの代表取締役社長に就任\n2007年　日根野公認会計士事務所 京都で独立開業(現在）\n2008年　日根野公認会計士事務所 大阪事務所 次長(現在）\n学校経営を通して日本を良くするという志と、キャリアを活かして、「株の学校アクションラーニング」を創業（2007年）。株式投資に決算書をどう使うかを講義している。 \n株の学校アクションラーニング\n \n\n■参加資格\n楽天証券に口座をお持ちのお客様\n\n申し込みはこちら
URL:https://xr.jikiden.co.jp/schedule/%e8%a6%96%e8%81%b4%e8%80%85%e3%81%ae%e3%81%bf%e3%81%aa%e3%81%95%e3%82%93%e3%81%ae%e3%83%aa%e3%82%af%e3%82%a8%e3%82%b9%e3%83%88%e3%81%8b%e3%82%895%e9%8a%98%e6%9f%84%e3%82%92%e5%8e%b3%e9%81%b8%ef%bc%81
CATEGORIES:日本株
END:VEVENT
END:VCALENDAR