BEGIN:VCALENDAR
VERSION:2.0
PRODID:-//直伝チャンネル - ECPv5.16.4//NONSGML v1.0//EN
CALSCALE:GREGORIAN
METHOD:PUBLISH
X-WR-CALNAME:直伝チャンネル
X-ORIGINAL-URL:https://xr.jikiden.co.jp
X-WR-CALDESC:直伝チャンネル のイベント
BEGIN:VTIMEZONE
TZID:Asia/Tokyo
BEGIN:STANDARD
TZOFFSETFROM:+0900
TZOFFSETTO:+0900
TZNAME:JST
DTSTART:20150101T000000
END:STANDARD
END:VTIMEZONE
BEGIN:VEVENT
DTSTART;TZID=Asia/Tokyo:20150521T193000
DTEND;TZID=Asia/Tokyo:20150521T203000
DTSTAMP:20260421T195213
CREATED:20150507T122508Z
LAST-MODIFIED:20150507T122508Z
UID:290-1432236600-1432240200@xr.jikiden.co.jp
SUMMARY:黒田のFX塾(webセミナー版)～水平線だけで勝つトレードの技術～
DESCRIPTION:＜概要＞\n世の中には、移動平均線をはじめとして、一目均衡表やMACD等々、様々な分析方法がありますが、今回は水平線だけを使用した相場の見方を解説します。\n相場は複雑に見ても分からなくなるだけ。\nシンプルに見るのが一番です。\nどのような場所に水平線を引き、それを使って、どのようにトレードを行えば勝てるようになるのか。\n実際のチャートを使って話していきます。\n\n■こんな方にオススメ\n・相場でなかなか勝てない人\n・チャートの見方がいまいちよく分からない人\n・チャートをどのように使えば勝てるのか知りたい人\n\n＜講師＞\n黒田 真人 氏（FTT株式会社 代表取締役）\n大学卒業後、法律事務所に入所。2001年より10年間ひまわり証券、2011年より3年間efx.com証券にて、FXをはじめ日経225先物・CFD等デリバティブ商品の啓蒙拡大に従事。現在、投資・助言会社にて勝てる個人トレーダーを育成するため、情報配信や投資塾を運営。\n＊講師サイト\nＦＸはこれで勝てる！ 黒田のＦＸ塾\n\n— なっとくのおトク情報！—\n黒田のＦＸ塾－プレミアム－（初月無料）\nFX初心者も、これまでトレードで勝てなかった人も、この講座でまずは月に10万円の利益を取れるようになりましょう。この講座は、実践トレードをメインとした50本/月程度の情報量を誇る実践的で楽しい講座です。詳しくはこちらから！\n視聴はこちら（申し込み不要！）
URL:https://xr.jikiden.co.jp/schedule/%e9%bb%92%e7%94%b0%e3%81%aefx%e5%a1%beweb%e3%82%bb%e3%83%9f%e3%83%8a%e3%83%bc%e7%89%88%ef%bd%9e%e6%b0%b4%e5%b9%b3%e7%b7%9a%e3%81%a0%e3%81%91%e3%81%a7%e5%8b%9d%e3%81%a4%e3%83%88%e3%83%ac%e3%83%bc
CATEGORIES:FX
END:VEVENT
END:VCALENDAR