BEGIN:VCALENDAR
VERSION:2.0
PRODID:-//直伝チャンネル - ECPv5.16.4//NONSGML v1.0//EN
CALSCALE:GREGORIAN
METHOD:PUBLISH
X-WR-CALNAME:直伝チャンネル
X-ORIGINAL-URL:https://xr.jikiden.co.jp
X-WR-CALDESC:直伝チャンネル のイベント
BEGIN:VTIMEZONE
TZID:Asia/Tokyo
BEGIN:STANDARD
TZOFFSETFROM:+0900
TZOFFSETTO:+0900
TZNAME:JST
DTSTART:20150101T000000
END:STANDARD
END:VTIMEZONE
BEGIN:VEVENT
DTSTART;TZID=Asia/Tokyo:20150603T200000
DTEND;TZID=Asia/Tokyo:20150603T213000
DTSTAMP:20260420T004856
CREATED:20150522T060239Z
LAST-MODIFIED:20150522T060239Z
UID:313-1433361600-1433367000@xr.jikiden.co.jp
SUMMARY:ＦＸプライム byGMO　柳澤浩＆高野やすのり　為替トークバトル！（第5R）
DESCRIPTION:■セミナー概要\n毎月、米国雇用統計発表前、「柳澤浩＆高野やすのり　為替トークバトル」で、市場を揺さぶるホットな話題・テーマを鋭く分析します。もちろん、注目の通貨やチャートポイントも詳しく解説します。\n\nそして、米国雇用統計発表当日は、ラジオNIKKEI「夜トレ！」において、注目の米雇用統計結果をリアルタイムで解説し、その後の相場を見通します。\n\n■こんな方にオススメ\n・現在、為替相場が何に注目し、何に反応しやすいかを知りたいという方\n・目先のチャートポイントを詳しく知りたいという方\n・両講師にチャットで質問したいという方\n\n■講師紹介\n柳澤 浩（やなぎさわ ひろし）\nＦＸプライム byGMOチーフ・アナリスト\n国際基督教大学（ICU）教養学部卒\nプラザ合意の頃に、アムロ銀行（蘭）で為替ディーラー業務を開始。その後、ロイズ銀行（英）、ドレスナー銀行（独）等で、短期金融商品、債券、金利デリバティブ等のディーリングに従事。\n 現在は、個人投資家の皆様の金融リテラシーの向上を図り、相場の楽しさを伝えるべく、当社にて為替情報コンテンツ『柳澤浩のわかりやすい外為道場』を配信中。現　株式会社ＦＸプライムbyGMOチーフ・アナリスト\n\n高野 やすのり（たかの やすのり）\nＦＸプライム byGMOチーフ・ストラテジスト\nチェース・マンハッタン銀行（現JPモルガン・チェース銀行）、スイス・ユニオン銀行（現UBS銀行）、ファースト・シカゴ銀行（現JPモルガン・チェース銀行）などでインターバンクディーラー業務に従事。20年以上に亘り、外国為替市場の第一線で活躍。\n2004年より為替市場の中の様々な立場で長年培ってきた経験を生かし、インターネット上のコンテンツや、ラジオ、セミナーを通じて正しいFXの知識や、FXの魅力を広める為の活動を行う。\n2009年2月から当社勤務　現　株式会社FXプライムbyGMO　チーフ・ストラテジスト\nNPO法人日本テクニカルアナリスト協会　認定テクニカルアナリスト\n\n■参加資格\nどなたでもお申込みいただけます\n\n■定員\n1\,000名\n （本セミナーは先着順とさせて頂きますので、お早めにご応募下さい。）\n\n申し込みはこちら
URL:https://xr.jikiden.co.jp/schedule/%ef%bd%86%ef%bd%98%e3%83%97%e3%83%a9%e3%82%a4%e3%83%a0-bygmo%e3%80%80%e6%9f%b3%e6%be%a4%e6%b5%a9%ef%bc%86%e9%ab%98%e9%87%8e%e3%82%84%e3%81%99%e3%81%ae%e3%82%8a%e3%80%80%e7%82%ba%e6%9b%bf%e3%83%88-3
CATEGORIES:FX
END:VEVENT
END:VCALENDAR