BEGIN:VCALENDAR
VERSION:2.0
PRODID:-//直伝チャンネル - ECPv5.16.4//NONSGML v1.0//EN
CALSCALE:GREGORIAN
METHOD:PUBLISH
X-WR-CALNAME:直伝チャンネル
X-ORIGINAL-URL:https://xr.jikiden.co.jp
X-WR-CALDESC:直伝チャンネル のイベント
BEGIN:VTIMEZONE
TZID:Asia/Tokyo
BEGIN:STANDARD
TZOFFSETFROM:+0900
TZOFFSETTO:+0900
TZNAME:JST
DTSTART:20150101T000000
END:STANDARD
END:VTIMEZONE
BEGIN:VEVENT
DTSTART;TZID=Asia/Tokyo:20150602T183000
DTEND;TZID=Asia/Tokyo:20150602T203000
DTSTAMP:20260419T232631
CREATED:20150522T055316Z
LAST-MODIFIED:20150522T055458Z
UID:312-1433269800-1433277000@xr.jikiden.co.jp
SUMMARY:Ｍ２Ｊプレミアムナイツ（若林栄四氏）　黄金分割で見る 15年後半の相場見通し
DESCRIPTION:「相場の動きは日柄と黄金分割で、決められている」\nその真意とは？ここでしか聞けない内容満載の１２０分\n\n第２部では川合美智子氏とFX運用の「師弟対談」！\n\n【第１部　若林栄四氏講演テーマ】　\n◆米経済「偽りの夜明け」…米実体経済の現状\n◆中央銀行の金融政策と景気効果、金融市場への影響\n◆為替・株ともに重要な時期を迎える、2015年後半以降の展望\n\n【第２部　若林氏・川合氏師弟対談テーマ】　\n◆FX運用を行う上で知っておきたい\n　仕掛けから手仕舞い、利食い損切りの極意とは？\n\n■講師紹介\n株式会社ワカバヤシ エフエックス アソシエイツ 代表：若林 栄四 氏\n株式会社ワカバヤシ エフエックス アソシエイツ 代表取締役 外国為替ストラテジスト：川合美智子氏\n\n■定員\n500名様\n（お申込者多数の場合は、\nその時点で受付終了となる場合もございますので予めご了承ください。）\n\n申し込みはこちら
URL:https://xr.jikiden.co.jp/schedule/%ef%bd%8d%ef%bc%92%ef%bd%8a%e3%83%97%e3%83%ac%e3%83%9f%e3%82%a2%e3%83%a0%e3%83%8a%e3%82%a4%e3%83%84%ef%bc%88%e8%8b%a5%e6%9e%97%e6%a0%84%e5%9b%9b%e6%b0%8f%ef%bc%89%e3%80%80%e9%bb%84%e9%87%91%e5%88%86
CATEGORIES:FX
END:VEVENT
END:VCALENDAR