BEGIN:VCALENDAR
VERSION:2.0
PRODID:-//直伝チャンネル - ECPv5.16.4//NONSGML v1.0//EN
CALSCALE:GREGORIAN
METHOD:PUBLISH
X-WR-CALNAME:直伝チャンネル
X-ORIGINAL-URL:https://xr.jikiden.co.jp
X-WR-CALDESC:直伝チャンネル のイベント
BEGIN:VTIMEZONE
TZID:Asia/Tokyo
BEGIN:STANDARD
TZOFFSETFROM:+0900
TZOFFSETTO:+0900
TZNAME:JST
DTSTART:20190101T000000
END:STANDARD
END:VTIMEZONE
BEGIN:VEVENT
DTSTART;TZID=Asia/Tokyo:20190129T200000
DTEND;TZID=Asia/Tokyo:20190129T210000
DTSTAMP:20260420T232257
CREATED:20190122T010928Z
LAST-MODIFIED:20190129T082802Z
UID:2718-1548792000-1548795600@xr.jikiden.co.jp
SUMMARY:村田雅志のトークルーム財務省が日本を亡ぼす～統計の嘘の本質を探る～
DESCRIPTION:財務省が主導する緊縮財政は、日本国民を貧困化させ、日本国を着々と「発展途上国」へと落ちぶれさせようとしています。\nさらには、最近、頻発する政府の「統計の嘘」が、なぜか全て緊縮財政を後押ししているという現実を知ってください。\n\n視聴はこちら\n \n村田雅志（むらた・まさし）氏\n元外資系・通貨ストラテジスト／個人投資家、CFA\n\n1970年埼玉県生まれ。\n東京工業大学工学修士、コロンビア大学MIA、政策研究大学院大学博士課程単位取得 退学\n専修大学大学院経済学研究科　客員教授（2009年～2013年）\n\nTwitterアカウント：@MurataMasashi (http://twitter.com/muratamasashi)\nFacebookアカウント：tamasashimura (http://facebook.com/tamasashimura)\n\n三和総合研究所（現・三菱UFJリサーチ&コンサルティング）にて日本経済の分析業務を担当後、ヘッジファンドを運営するGCIグループに移籍。\nGCIグループでは日本株ロング・ショートファンド、アジア地域対象のファンド・オブ・ファンズの運用を担当した。\n2010年に米国で最古かつ最大手のプライベート・バンクであるブラウン・ブラザーズ・ハリマンに移籍。通貨ストラテジストとして、新興国通貨やドル、ユーロなど主要通貨に関する調査・分析結果をグローバル市場で運用する機関投資家に提供していたが、2018年5月に退職。\n現在は個人投資家として、豪州、アジアへの融資を手がけるほか、仮想通貨でも運用をしている。 \n\n \n三橋貴明氏\n\n経世論研究所　所長\n東京都立大学（現：首都大学東京）経済学部卒業。\n外資系IT企業、NEC、日本IBMなどを経て、\n2008年に三橋貴明診断士事務所（現、経世論研究所）を設立。\n2007年、インターネット上の公表データから韓国経済の実態を分析し、 内容をまとめた『本当はヤバイ！韓国経済』（彩図社）がベストセラー。\nブログ『新世紀のビッグブラザーへ』の一日のアクセスユーザー数は12万人を超え、推定ユーザー数は36万人。\nWeb上の文筆活動 ブログ「新世紀のビッグブラザーへ」\nメルマガ「「新」経世済民新聞」、「週刊三橋貴明～新世紀のビッグブラザーへ～」\n\n最新著書　「財務省が日本を滅ぼす」（小学館）
URL:https://xr.jikiden.co.jp/schedule/20190129-3
CATEGORIES:投資全般
END:VEVENT
END:VCALENDAR