BEGIN:VCALENDAR
VERSION:2.0
PRODID:-//直伝チャンネル - ECPv5.16.4//NONSGML v1.0//EN
CALSCALE:GREGORIAN
METHOD:PUBLISH
X-WR-CALNAME:直伝チャンネル
X-ORIGINAL-URL:https://xr.jikiden.co.jp
X-WR-CALDESC:直伝チャンネル のイベント
BEGIN:VTIMEZONE
TZID:Asia/Tokyo
BEGIN:STANDARD
TZOFFSETFROM:+0900
TZOFFSETTO:+0900
TZNAME:JST
DTSTART:20190101T000000
END:STANDARD
END:VTIMEZONE
BEGIN:VEVENT
DTSTART;TZID=Asia/Tokyo:20190129T200000
DTEND;TZID=Asia/Tokyo:20190129T213000
DTSTAMP:20260421T005416
CREATED:20190125T072628Z
LAST-MODIFIED:20190125T072654Z
UID:2745-1548792000-1548797400@xr.jikiden.co.jp
SUMMARY:「2月相場を一緒に考えよう！」～マネパ為替戦略会議～
DESCRIPTION:本セミナーでは、来月の為替市場に関する色々なアンケートを実施し（※）、お客様の回答を元に「来月の為替市場がどのような展開になっていくのか」を講師と参加者が一緒に考えていきます。\n\n他のお客様の意見や考えは、ご自身がトレードを行う際にとても参考となるのではないでしょうか？\nアンケートに答えず、見るだけの参加でもOKです。ご参加お待ちしています。\n\nなお今回のセミナーは、事前の申込みは不要です。\nどなたでも会員専用サイトから参加できます。ぜひトレードにお役立てください。\n\n※アンケート結果のいくつかは、当社公式ツイッター（ https://twitter.com/ManepaOfficial ）でも配信いたします。\n　当日参加できない方はチェックしてください。\n\n・2月の為替市場におけるチェックポイント\n・米国・欧州・日本　状況確認\n・大好評、マネパのお客様はどう考える\n・質疑応答（参加者の質問に講師が答えます）\n…など\n\n■講師紹介\n武市佳史氏（株式会社マネーパートナーズ チーフアナリスト）\n株式会社マネーパートナーズ チーフアナリスト。テクニカルアナリスト（CMTA）・ファイナンシャル・プランナー（AFP）でもある。日本におけるFX（外国為替証拠金取引）の草創期より業務に従事。現在はマネーパートナーズのチーフアナリストとして、為替コラム執筆やWebセミナー講師を務めるだけでなく、日経CNBCを始めとする数々のメディアに出演・寄稿している。大阪府出身。\n\n■参加資格\nマネーパートナーズに取引口座をお持ちのお客様限定\n\n視聴はこちら
URL:https://xr.jikiden.co.jp/schedule/20190129-4
CATEGORIES:FX
END:VEVENT
END:VCALENDAR