BEGIN:VCALENDAR
VERSION:2.0
PRODID:-//直伝チャンネル - ECPv5.16.4//NONSGML v1.0//EN
CALSCALE:GREGORIAN
METHOD:PUBLISH
X-WR-CALNAME:直伝チャンネル
X-ORIGINAL-URL:https://xr.jikiden.co.jp
X-WR-CALDESC:直伝チャンネル のイベント
BEGIN:VTIMEZONE
TZID:Asia/Tokyo
BEGIN:STANDARD
TZOFFSETFROM:+0900
TZOFFSETTO:+0900
TZNAME:JST
DTSTART:20200101T000000
END:STANDARD
END:VTIMEZONE
BEGIN:VEVENT
DTSTART;TZID=Asia/Tokyo:20201005T170000
DTEND;TZID=Asia/Tokyo:20201005T173000
DTSTAMP:20260420T173059
CREATED:20201002T013020Z
LAST-MODIFIED:20201002T013028Z
UID:4633-1601917200-1601919000@xr.jikiden.co.jp
SUMMARY:週刊マーケット・チェック
DESCRIPTION:※9月より、開催時間を17:00～に変更しております※\n\n週の初めに開催している定期セミナー！\n米ドル/円など主要通貨ペアのファンダメンタルズ解説やテクニカル分析、また重要イベントのチェックなど、毎週盛り沢山の内容でお届けします。\nセミナー内チャットでの講師と参加者の質疑応答も大人気！\nマーケットについて知りたいことや疑問点など、リアルタイムで質問いただけます。\n\n今後の開催予定\n・10月12日(月) 17:00～17:30\n・10月19日(月) 17:00～17:30\n・10月26日(月) 17:00～17:30\n\n■講師紹介\n武市佳史氏\n\nマネーパートナーズ チーフアナリスト / ファイナンシャル・プランナー(AFP)。\n大阪府出身。日本におけるFX(外国為替証拠金取引)の草創期より業務に従事。\nマネーパートナーズのチーフアナリストとして、為替コラムの執筆やWebセミナーの講師を務めるだけでなく、日経CNBCを始めとする数々のメディアに出演・寄稿している。\n\n■参加資格\nマネーパートナーズに取引口座をお持ちのお客様限定\n\n視聴はこちら
URL:https://xr.jikiden.co.jp/schedule/20201005
CATEGORIES:FX
END:VEVENT
END:VCALENDAR