BEGIN:VCALENDAR
VERSION:2.0
PRODID:-//直伝チャンネル - ECPv5.16.4//NONSGML v1.0//EN
CALSCALE:GREGORIAN
METHOD:PUBLISH
X-WR-CALNAME:直伝チャンネル
X-ORIGINAL-URL:https://xr.jikiden.co.jp
X-WR-CALDESC:直伝チャンネル のイベント
BEGIN:VTIMEZONE
TZID:Asia/Tokyo
BEGIN:STANDARD
TZOFFSETFROM:+0900
TZOFFSETTO:+0900
TZNAME:JST
DTSTART:20200101T000000
END:STANDARD
END:VTIMEZONE
BEGIN:VEVENT
DTSTART;TZID=Asia/Tokyo:20201201T200000
DTEND;TZID=Asia/Tokyo:20201201T210000
DTSTAMP:20260421T182700
CREATED:20201120T015334Z
LAST-MODIFIED:20201120T015348Z
UID:4788-1606852800-1606856400@xr.jikiden.co.jp
SUMMARY:積立投資を楽しく学ぶ！インデックス投資セミナー～貯金オンリーから卒業するためのつみたて投資トライアル！！！～
DESCRIPTION:【全国誰でも参加OK!】口座をお持ちでないお客様もご覧いただけます。\n\n＜オンラインセミナーで積立投資を楽しく学んでみませんか♪＞\n\n12月1日（火）20時より、インデックス投資アドバイザーのカン・チュンド氏をお招きし、セミナーを開催します。\n\n今回は、「貯金オンリーから卒業するためのつみたて投資トライアル！！！」と題し、貯金と積立投資のバランス、インデックス投資の基本知識、リスク許容度の考え方、積立投資の始め方について、カンさんに分かりやすく解説していただきます。\n「積立投資」をご検討中の方、インデックス投資を始めたい方、これから本気でお金を育てたい方は必見です！\n皆さま、奮ってご参加ください。\n\n※本セミナーは後日、オンデマンドでの配信を予定しております。\n \n講師紹介\nカン・チュンド 氏\n（投資信託クリニック代表、インデックス投資アドバイザー）\n\n米国シトラスカレッジ中退。2000年に独立FPとして開業。\n金融商品の販売には関わらず、時間ベースの有料カウンセリングに特化する。これまで1000名を超えるお客様に、グローバルに投資を行う低コストの投資信託の有用性を説いてきた。\n著書に「ラクして増やそう！バラつみ投資」（電子書籍）「投資信託35の法則」（ソーテック社）「ETF投資入門」（日本経済新聞出版社）などがある。\nお気に入りは日本酒、散歩、国立西洋美術館。 \n\n■参加資格\n事前申込不要\n※セミナー開始約15分前より先着3\,000名様が視聴可能です。定員を上回った場合は視聴できませんのであらかじめご了承ください。スマートフォンでもご視聴いただけます。\n\n視聴はこちら
URL:https://xr.jikiden.co.jp/schedule/20201201-2
CATEGORIES:投資信託
END:VEVENT
END:VCALENDAR