BEGIN:VCALENDAR
VERSION:2.0
PRODID:-//直伝チャンネル - ECPv5.16.4//NONSGML v1.0//EN
CALSCALE:GREGORIAN
METHOD:PUBLISH
X-WR-CALNAME:直伝チャンネル
X-ORIGINAL-URL:https://xr.jikiden.co.jp
X-WR-CALDESC:直伝チャンネル のイベント
BEGIN:VTIMEZONE
TZID:Asia/Tokyo
BEGIN:STANDARD
TZOFFSETFROM:+0900
TZOFFSETTO:+0900
TZNAME:JST
DTSTART:20210101T000000
END:STANDARD
END:VTIMEZONE
BEGIN:VEVENT
DTSTART;TZID=Asia/Tokyo:20211026T200000
DTEND;TZID=Asia/Tokyo:20211026T211500
DTSTAMP:20260420T172828
CREATED:20211015T054452Z
LAST-MODIFIED:20211015T054452Z
UID:5632-1635278400-1635282900@xr.jikiden.co.jp
SUMMARY:マネックス・アクティビスト・ファンド月次セミナー（2021年10月）
DESCRIPTION:マネックス・アクティビスト・ファンド（愛称：日本の未来　通称：MAF「まふ」）についてカタリスト投資顧問のメンバーが月次でご報告するオンラインセミナーを開催いたします。今回のセミナーはファンドに関する報告に加えて、ゲストにKoru-workers株式会社 代表取締役で #世界最速で日経新聞を解説する男（セカニチ）として活動する南 祐貴氏を迎え、「投資の基本」について解説する2部構成のセミナーとなります。\n\nすでにマネックス・アクティビスト・ファンドを保有されているお客様も、これから購入を検討されているお客様も、ぜひこの機会にご視聴ください。\n\n【キャンペーンのご案内】※キャンペーン期間：2021年10月7日（木）～2021年10月21日（木）\nただいま、「”まふ”のクイズにツイートで答えて書籍をゲット！」キャンペーンを実施中です。\n詳細はこちら\n\n【前回セミナーのオンデマンド動画】\nマネックス・アクティビスト・ファンド月次セミナー（2021年9月）\n（マネックス証券のYouTubeチャンネル「マネックスオンデマンド」にリンクします）\n\n【プログラム】（予定）\n＜第1部：ファンドについて＞\n・直近の運用状況\n・保有者座談会「まふ会」実施報告\n＜第2部：南 祐貴氏 × 小野塚 惠美氏 対談パート＞\n・投資の基本（アクティブ運用とインデックス運用の違い、積立投資のメリット等）\n・投資信託としての「まふ」の魅力\n・質疑応答\n \n■登壇者\n小野塚 惠美氏（カタリスト投資顧問株式会社 取締役副社長COO）\n上智大学卒業後、1998年JPモルガン銀行入行。2000年よりゴールドマン・サックス・アセット・マネジメント株式会社において　多岐にわたる資産運用業務に従事。2016年からは日本におけるスチュワードシップ責任推進の統括としてESG（環境・社会・ガバナンス）リサーチ、企業との対話を年間200社以上実施。2020年4月カタリスト投資顧問株式会社入社。2020年5月より現職。\n＜業界活動＞\nジャパン・スチュワードシップ・イニシアティブ（JSI）運営委員会委員長\nSustainability Accounting Standard Board (SASB) FSA Japan Community Co-Champion\n\n松井 絢香氏（カタリスト投資顧問株式会社 マーケティングスペシャリスト）\n\n南 祐貴氏（Koru-workers株式会社 代表取締役）\n1989年生。 東京理科大学を卒業後、博報堂に入社。約6年間の勤務を経て独立。クラウドファンディングで265名から500万円以上を集め、東京都港区の高輪に初のゲストハウスを開業。\nまた、「#世界最速で日経新聞を解説する男（セカニチ）」という名前でInstagramなどのSNSを通して、経済や投資についての情報発信をしている。 \n\n\n■参加資格\n事前申込不要\n※セミナー開始約15分前より先着3\,000名様が視聴可能です。定員を上回った場合は視聴できませんのであらかじめご了承ください。スマートフォンでもご視聴いただけます。\n\n視聴はこちら
URL:https://xr.jikiden.co.jp/schedule/20211026
CATEGORIES:投資信託
END:VEVENT
END:VCALENDAR