BEGIN:VCALENDAR
VERSION:2.0
PRODID:-//直伝チャンネル - ECPv5.16.4//NONSGML v1.0//EN
CALSCALE:GREGORIAN
METHOD:PUBLISH
X-WR-CALNAME:直伝チャンネル
X-ORIGINAL-URL:https://xr.jikiden.co.jp
X-WR-CALDESC:直伝チャンネル のイベント
BEGIN:VTIMEZONE
TZID:Asia/Tokyo
BEGIN:STANDARD
TZOFFSETFROM:+0900
TZOFFSETTO:+0900
TZNAME:JST
DTSTART:20210101T000000
END:STANDARD
END:VTIMEZONE
BEGIN:VEVENT
DTSTART;TZID=Asia/Tokyo:20211028T200000
DTEND;TZID=Asia/Tokyo:20211028T210000
DTSTAMP:20260420T205759
CREATED:20211008T061605Z
LAST-MODIFIED:20211008T061605Z
UID:5626-1635451200-1635454800@xr.jikiden.co.jp
SUMMARY:山中康司MT4セミナー　月間 金融マーケット展望
DESCRIPTION:刻々と変化する金融マーケット。投資家が着目すべきポイントとは？取引の魅力と注意点について、山中先生に解説いただきます。取引経験者だけでなくこれからFX取引をスタートする方も必見です。\n\n講師紹介\n山中　康司氏\n\n■定員\n100名　★当日参加可能★\nオンライン（要事前申し込み）セミナー当日19：30より先着100名様が入室可能です。\n定員を上回った場合は視聴できませんので予めご了承ください。\n\n参加お申し込みはこちら
URL:https://xr.jikiden.co.jp/schedule/20211028-2
CATEGORIES:FX
END:VEVENT
END:VCALENDAR