BEGIN:VCALENDAR
VERSION:2.0
PRODID:-//直伝チャンネル - ECPv5.16.4//NONSGML v1.0//EN
CALSCALE:GREGORIAN
METHOD:PUBLISH
X-WR-CALNAME:直伝チャンネル
X-ORIGINAL-URL:https://xr.jikiden.co.jp
X-WR-CALDESC:直伝チャンネル のイベント
BEGIN:VTIMEZONE
TZID:Asia/Tokyo
BEGIN:STANDARD
TZOFFSETFROM:+0900
TZOFFSETTO:+0900
TZNAME:JST
DTSTART:20220101T000000
END:STANDARD
END:VTIMEZONE
BEGIN:VEVENT
DTSTART;TZID=Asia/Tokyo:20220810T200000
DTEND;TZID=Asia/Tokyo:20220810T210000
DTSTAMP:20260421T190347
CREATED:20220805T044827Z
LAST-MODIFIED:20220805T044827Z
UID:6564-1660161600-1660165200@xr.jikiden.co.jp
SUMMARY:親の相続、あなたならどうする？
DESCRIPTION:相続は本人だけでなく家族に関係することですから、シニア世代の親を持つ子世代のお客様が、親の相続対策について不安を感じることは多いと思います。\nそこで、当社に寄せられた親の相続についての相談を題材にして、資産承継コンサルタントの永井氏が不安解消策を解説しますので、本セミナーを親子の対話のきっかけにしてみませんか。\n \n■講師紹介\n永井 勝巳 氏\n1975年 三井信託銀行入社\n中央信託・住友信託との合併を経て2016年三井住友信託銀行 プライベートバンキング部 上級主席財務コンサルタントを最後に退職。\n同年よりファイナンシャルプランナーとして相続を中心にコンサルタント活動開始。\n成蹊大学 経済学部 非常勤講師 「信託の理論と実際」\n著書 「財コン！円満相続への案内人！」(幻冬舎）他 \n\n■参加資格\nマネックス証券に口座をお持ちの方が視聴可能です。\n\n事前申込不要\n※セミナー開始約15分前より先着500名様が視聴可能です。定員を上回った場合は視聴できませんのであらかじめご了承ください。\n視聴はこちら
URL:https://xr.jikiden.co.jp/schedule/20220810
CATEGORIES:その他
END:VEVENT
END:VCALENDAR