BEGIN:VCALENDAR
VERSION:2.0
PRODID:-//直伝チャンネル - ECPv5.16.4//NONSGML v1.0//EN
CALSCALE:GREGORIAN
METHOD:PUBLISH
X-WR-CALNAME:直伝チャンネル
X-ORIGINAL-URL:https://xr.jikiden.co.jp
X-WR-CALDESC:直伝チャンネル のイベント
BEGIN:VTIMEZONE
TZID:Asia/Tokyo
BEGIN:STANDARD
TZOFFSETFROM:+0900
TZOFFSETTO:+0900
TZNAME:JST
DTSTART:20220101T000000
END:STANDARD
END:VTIMEZONE
BEGIN:VEVENT
DTSTART;TZID=Asia/Tokyo:20221004T200000
DTEND;TZID=Asia/Tokyo:20221004T210000
DTSTAMP:20260422T002526
CREATED:20220922T014448Z
LAST-MODIFIED:20220922T020849Z
UID:6688-1664913600-1664917200@xr.jikiden.co.jp
SUMMARY:ON COMPASS 6周年オンライントークイベント第一弾【ゲスト：東京メロンボーイ氏】
DESCRIPTION:口座をお持ちでないお客様もご覧いただけます。\n\nおまかせ資産運用ON COMPASSがサービス開始から6周年を迎えたことを記念して、特別ゲストを招いたオンライントークイベントを全3回で開催いたします。\n\n第一弾は、6周年特設サイトのキービジュアルを描いていただいたイラストレーター東京メロンボーイ氏をお招きし、今回のキービジュアルに込めた想いや制作過程で大変だった点などを語っていただきます。他にもON COMPASSの6年間を振り返り、サービスの魅力を数字でお伝えします。\nまた、セミナー時間中に皆さまからのご質問にお答えします（ご質問はチャットで受付いたします）。本セミナーは、「マネックスオンデマンド」でオンデマンド公開予定です。\n\n【今後の開催スケジュール（予定）】\n10月21日（金）20時～21時\n11月2日（水）20時～21時\n※スケジュールは、予告なく変更または中止となる場合がございますのであらかじめご了承ください。\n\n■出演者\n・東京メロンボーイ氏\nイラストレーション青山塾にて木内達朗氏、舟橋全二氏に師事。\nその後、木内達朗氏が主催するイラストレーションスタジオ「ペンスチ」に所属。 国内の書籍や雑誌、音楽、広告などのイラストを幅広く手がける。\nAmerican Illustration 41 selected。Society of Illustrators 63\,64入選。3×3 International Illustration Award No.17\, Silver。ボローニャ国際絵本原画展入選。\n・マネックス・アセットマネジメント社員\n\n■参加資格\n事前申込不要\n※セミナー当日開場時間より先着3\,000名様が入室可能です。定員を上回った場合は視聴できませんのであらかじめご了承ください。\n視聴はこちら
URL:https://xr.jikiden.co.jp/schedule/20221004
CATEGORIES:投資全般
END:VEVENT
END:VCALENDAR