BEGIN:VCALENDAR
VERSION:2.0
PRODID:-//直伝チャンネル - ECPv5.16.4//NONSGML v1.0//EN
CALSCALE:GREGORIAN
METHOD:PUBLISH
X-WR-CALNAME:直伝チャンネル
X-ORIGINAL-URL:https://xr.jikiden.co.jp
X-WR-CALDESC:直伝チャンネル のイベント
BEGIN:VTIMEZONE
TZID:Asia/Tokyo
BEGIN:STANDARD
TZOFFSETFROM:+0900
TZOFFSETTO:+0900
TZNAME:JST
DTSTART:20230101T000000
END:STANDARD
END:VTIMEZONE
BEGIN:VEVENT
DTSTART;TZID=Asia/Tokyo:20230810T193000
DTEND;TZID=Asia/Tokyo:20230810T203000
DTSTAMP:20260421T075725
CREATED:20230829T062903Z
LAST-MODIFIED:20230829T062948Z
UID:7045-1691695800-1691699400@xr.jikiden.co.jp
SUMMARY:どうする 相続 ～財産の宛名をどうする？～
DESCRIPTION:人生100年時代に終活の一環としてよく取り上げられる「遺言書」。なかなか作成に踏み切れない方も多いようです。\nそこで、今回のセミナーでは、先ずは遺言の役割をご理解いただき、こんな場合は遺言をどうする？という事例を交えてお話しいただきます。\n\n子がいない夫婦\n複数回結婚して、それぞれの配偶者との間に子がいる\n慈善団体に財産を寄付したい\n財産の大部分が不動産\nなど、朝日税理士法人の金澤氏が現場での経験をもとに解説します。\n\n■講師紹介\n税理士\n金澤 毅仁 氏\n\n都内会計事務所を経て、平成 23年朝日税理士法人入社。\n上場企業、中堅企業の法人税務業務に従事したのち、相続税、贈与税、譲渡所得税等の個人の税を扱う資産税専門チーム創設に伴い、その立ち上げ期から関わる。\n現在は資産税部門マネジャーとして相続税申告、遺言作成をはじめとする相続対策等多数の相続案件に関与している。\n\n■参加資格\nオンライン（事前申込不要）\n※セミナー開始約15分前より先着500名様が視聴可能です。定員を上回った場合は視聴できませんのであらかじめご了承ください。
URL:https://xr.jikiden.co.jp/schedule/20230810
CATEGORIES:その他
END:VEVENT
END:VCALENDAR