BEGIN:VCALENDAR
VERSION:2.0
PRODID:-//直伝チャンネル - ECPv5.16.4//NONSGML v1.0//EN
CALSCALE:GREGORIAN
METHOD:PUBLISH
X-WR-CALNAME:直伝チャンネル
X-ORIGINAL-URL:https://xr.jikiden.co.jp
X-WR-CALDESC:直伝チャンネル のイベント
BEGIN:VTIMEZONE
TZID:Asia/Tokyo
BEGIN:STANDARD
TZOFFSETFROM:+0900
TZOFFSETTO:+0900
TZNAME:JST
DTSTART:20230101T000000
END:STANDARD
END:VTIMEZONE
BEGIN:VEVENT
DTSTART;TZID=Asia/Tokyo:20231213T200000
DTEND;TZID=Asia/Tokyo:20231213T210000
DTSTAMP:20260420T141956
CREATED:20231207T091012Z
LAST-MODIFIED:20231207T091012Z
UID:7631-1702497600-1702501200@xr.jikiden.co.jp
SUMMARY:双日株式会社 IR説明会 事業や人材を創造し続ける総合商社
DESCRIPTION:2023年12月13日（水）に、双日株式会社のIR説明会を開催いたします。\n同社 IR室長　塚本 充彦氏に事業内容や成長戦略などをお話し頂きます。\n本セミナーは、開催時間中に質問をお寄せいただけます。ぜひご参加ください！\n\n※本セミナーはIRセミナーであり、個別銘柄の売買を推奨するものではありません。登壇する各社から情報の提供を受けて実施しています。\n※本セミナーでは、参加者からのご質問を受け付けております。すべてのご質問にご回答できない可能性がありますことを、あらかじめご了承ください。\n申込/視聴はこちら\n\n【登壇企業のご案内】\n双日株式会社\n銘柄コード：2768\n\n双日株式会社は、それぞれ長い歴史を持つニチメン株式会社、日商岩井株式会社をルーツに持ち、総合商社として160年以上にわたって多くの国と地域の発展を、ビジネスという側面からサポートして参りました。\n現在も国内外約400社の連結対象会社とともに、世界のさまざまな国と地域で、「事業や人材を創造し続ける総合商社」として、幅広いビジネスを展開しています。\n\n双日株式会社のサイトはこちらから\n\n【講師】\n\n\n\n塚本 充彦氏\n双日株式会社\nIR室長\n\n1994年日商岩井株式会社（現 双日株式会社）入社。\n2001～2007年、2018～2022年に2度の米国駐在を経験。\n2015年財務部長、2020年米州CFOに就任。\n2022年10月よりIR室長に就任（現在に至る）。\n\n【参加資格】\n※事前の参加申し込みが必要なセミナーです。\n　2023年11月11日（土）～12月11日（月）まで\n※楽天証券に口座をお持ちのお客様
URL:https://xr.jikiden.co.jp/schedule/20231213-3
CATEGORIES:IR
END:VEVENT
END:VCALENDAR