BEGIN:VCALENDAR
VERSION:2.0
PRODID:-//直伝チャンネル - ECPv5.16.4//NONSGML v1.0//EN
CALSCALE:GREGORIAN
METHOD:PUBLISH
X-WR-CALNAME:直伝チャンネル
X-ORIGINAL-URL:https://xr.jikiden.co.jp
X-WR-CALDESC:直伝チャンネル のイベント
BEGIN:VTIMEZONE
TZID:Asia/Tokyo
BEGIN:STANDARD
TZOFFSETFROM:+0900
TZOFFSETTO:+0900
TZNAME:JST
DTSTART:20230101T000000
END:STANDARD
END:VTIMEZONE
BEGIN:VEVENT
DTSTART;TZID=Asia/Tokyo:20231214T200000
DTEND;TZID=Asia/Tokyo:20231214T210000
DTSTAMP:20260420T142417
CREATED:20231201T002330Z
LAST-MODIFIED:20231201T002330Z
UID:7606-1702584000-1702587600@xr.jikiden.co.jp
SUMMARY:株式会社フォーラムエンジニアリング IR説明会
DESCRIPTION:株式会社フォーラムエンジニアリングのＩＲ説明会を開催いたします。\n本説明会では、株式会社フォーラムエンジニアリング 代表取締役社長 佐藤 勉氏に同社のビジネスモデル、インドでのビジネス展開について、ご説明いただきます。\nぜひご参加ください。\n\n※本セミナーはIRセミナーであり、個別銘柄の売買を推奨するものではありません。登壇する各社から情報の提供を受けて実施しています。\n※本セミナーでは、参加者からのご質問を受け付けております。すべてのご質問にご回答できない可能性がありますことを、あらかじめご了承ください。\n申込/視聴はこちら\n\n【登壇企業のご案内】\n株式会社フォーラムエンジニアリング\n銘柄コード：7088\n\n㈱フォーラムエンジニアリングは独自のマッチングシステム『コグナビ』で、エンジニア派遣サービスをコアに、学生や経験者向けの採用メディアサービス、そして、企業研修を大学で提供するHRマネジメントサービスを展開しています。昨年には、インドに子会社を設立し、「インドの産業を支える社会インフラを創出する」を掲げ、インドの企業として、インド初の理工系学生のための就職サイトをオープンしました。\n説明会では、コロナ以前同様の高い水準の慢性的人材不足にある環境での当社のビジネス展開、「Make in India」政策下にあるインドに進出をした当社の今後の展開について、代表取締役社長佐藤勉がお話します。\n\n株式会社フォーラムエンジニアリングのサイトはこちらから\n\n【講師】\n\n\n佐藤 勉氏\n株式会社フォーラムエンジニアリング\n代表取締役社長\n\n人材サービス業界歴30年以上\n2006年から2008年まで、大手人材派遣会社の社長として業界売上No.1に引き上げた実績\n当社「第２の創業」の立役者\n2008年に当社に参画、2017年に代表取締役社長に就任\nエンジニア人材市場を中心に業界を俯瞰的に捉え、先読みする独自の戦略で、当社をエンジニア派遣大手の一角を占める企業に育て上げるとともに、さらなるビジネスモデルの革新、海外展開を牽引\n\n【参加資格】\n※事前の参加申し込みが必要なセミナーです。\n　申込期間：2023年11月15日（水）～12月12日（火）まで\n※楽天証券に口座をお持ちのお客様
URL:https://xr.jikiden.co.jp/schedule/20231214-2
CATEGORIES:IR
END:VEVENT
END:VCALENDAR