BEGIN:VCALENDAR
VERSION:2.0
PRODID:-//直伝チャンネル - ECPv5.16.4//NONSGML v1.0//EN
CALSCALE:GREGORIAN
METHOD:PUBLISH
X-WR-CALNAME:直伝チャンネル
X-ORIGINAL-URL:https://xr.jikiden.co.jp
X-WR-CALDESC:直伝チャンネル のイベント
BEGIN:VTIMEZONE
TZID:Asia/Tokyo
BEGIN:STANDARD
TZOFFSETFROM:+0900
TZOFFSETTO:+0900
TZNAME:JST
DTSTART:20240101T000000
END:STANDARD
END:VTIMEZONE
BEGIN:VEVENT
DTSTART;TZID=Asia/Tokyo:20240123T190000
DTEND;TZID=Asia/Tokyo:20240123T200000
DTSTAMP:20260420T023843
CREATED:20240119T013735Z
LAST-MODIFIED:20240119T013735Z
UID:7756-1706036400-1706040000@xr.jikiden.co.jp
SUMMARY:S&P500の魅力を解説！米国経済を味方につける資産形成術～新NISAはS&P500？オルカン？川田流骨太方針を解説～
DESCRIPTION:1月23日（火）19時より、「米国株式啓蒙家」で株式会社ありがとうアメリカ株式 代表取締役社長、「バロンズ・ダイジェスト」日曜版編集人の川田重信氏をお招きし、セミナーを開催します。\n\n2024年から始まった新しいNISA制度で何に投資すべきか、お悩みの方も多いのではないでしょうか。今回は、NISA制度の活用を踏まえ、米国株式市場の代表的な株価指数の一つである「S&P500指数」の魅力に加え、長期資産形成における川田流骨太方針について、たっぷりと解説していただきます。\n当日は、三菱UFJアセットマネジメントよりeMAXIS Slimシリーズを紹介するとともに、川田氏のおすすめの買い方も解説します。\n\nS&P500で資産形成したい方必見のセミナーです！皆さま、奮ってご参加ください。\n\n※オルカンは三菱UFJアセットマネジメント株式会社の登録商標です。\n\n※本セミナーは後日、オンデマンドでの配信を予定しております。\n申込/視聴はこちら\n■講師\n川田 重信 氏（株式会社ありがとうアメリカ株式、「バロンズ・ダイジェスト」日曜版編集人）\n\n大和証券時代にNY、香港、シンガポールで外国株式の営業活動に従事。\nペインウェバー（現UBS）証券を経てエグゼトラストを設立。\n米国の代表的な投資週刊誌『Barron’s』の日本語版「バロンズ・ダイジェスト」日曜版を編集する他、米国株式および資産運用に関連するコンサルティングなども行う。日本人の国際分散投資、および株式投資は米国株式のインデックス運用を基本に据えることを提唱し続けながら米国株式投資の魅力を啓蒙している。神戸大学経営学部卒業、米国ロチェスター大学MBA。\n米国株式投資の啓蒙活動をパワーアップすべく2022年9月に「株式会社ありがとうアメリカ株式」設立。\n\n■参加資格\n【どなたでも参加可能】口座をお持ちでないお客様もご覧いただけます。\n\nオンライン（事前申込不要）　※セミナー開始約15分前より先着3\,000名様が視聴可能です。定員を上回った場合は視聴できませんのであらかじめご了承ください。スマートフォンでもご視聴いただけます。
URL:https://xr.jikiden.co.jp/schedule/20240123-2
CATEGORIES:投資信託
END:VEVENT
END:VCALENDAR