BEGIN:VCALENDAR
VERSION:2.0
PRODID:-//直伝チャンネル - ECPv5.16.4//NONSGML v1.0//EN
CALSCALE:GREGORIAN
METHOD:PUBLISH
X-WR-CALNAME:直伝チャンネル
X-ORIGINAL-URL:https://xr.jikiden.co.jp
X-WR-CALDESC:直伝チャンネル のイベント
BEGIN:VTIMEZONE
TZID:Asia/Tokyo
BEGIN:STANDARD
TZOFFSETFROM:+0900
TZOFFSETTO:+0900
TZNAME:JST
DTSTART:20240101T000000
END:STANDARD
END:VTIMEZONE
BEGIN:VEVENT
DTSTART;TZID=Asia/Tokyo:20240306T200000
DTEND;TZID=Asia/Tokyo:20240306T210000
DTSTAMP:20260420T093752
CREATED:20240222T005422Z
LAST-MODIFIED:20240222T005929Z
UID:7874-1709755200-1709758800@xr.jikiden.co.jp
SUMMARY:株式会社コンコルディア・フィナンシャルグループ IR説明会
DESCRIPTION:株式会社コンコルディア・フィナンシャルグループの個人投資家向け説明会を開催いたします。\n本説明会では、同社の概要、企業価値向上に向けた取り組み、中期経営計画などについて、取締役 兼 横浜銀行代表取締役常務執行役員の小野寺 伸夫氏よりご説明いただきます。ぜひご参加ください。\n\n※本セミナーはIRセミナーであり、個別銘柄の売買を推奨するものではありません。登壇する各社から情報の提供を受けて実施しています。\n※本セミナーでは、参加者からのご質問を受け付けております。すべてのご質問にご回答できない可能性がありますことを、あらかじめご了承ください。\n申込/視聴はこちら\n\n【登壇企業のご案内】\n株式会社コンコルディア・フィナンシャルグループ\n銘柄コード：7186\n\nコンコルディア・フィナンシャルグループは、神奈川県・東京都を営業地盤とした、地銀最大手の横浜銀行を中心とする地域金融グループです。\n長期的にめざす姿として「地域に根ざし、ともに歩む存在として選ばれるソリューション・カンパニー」を掲げ、地域のお客さまの課題解決を通じて、お客さまとともに成長していくことをめざしています。地域金融機関の使命と役割である地域社会の持続的な発展に貢献するとともに、資本市場と向き合い、企業価値向上に取り組んでいます。\n本説明会では、会社概要、企業価値向上に向けた取り組み、中期経営計画などに加えて、日本銀行の金融政策修正による影響についてご説明します。\n\n株式会社コンコルディア・フィナンシャルグループのサイトはこちらから\n\n【講師】\n\n\n\n小野寺 伸夫氏\n株式会社コンコルディア・フィナンシャルグループ\n取締役 兼 横浜銀行代表取締役常務執行役員\n\n1995年に横浜銀行に入行。営業店支店長や本部部長を経て、2021年に横浜銀行執行役員営業戦略部長に就任。2022年4月にコンコルディア・フィナンシャルグループ執行役員兼横浜銀行取締役執行役員に就任後、同年6月よりコンコルディア・フィナンシャルグループ取締役に就任。昨年4月より横浜銀行代表取締役常務執行役員に就任し、現在に至る。\n\n【参加資格】\n※事前の参加申し込みが必要なセミナーです。\n　2024年2月6日（火）～3月4日（月）まで\n※楽天証券に口座をお持ちのお客様
URL:https://xr.jikiden.co.jp/schedule/20240306-2
CATEGORIES:IR
END:VEVENT
END:VCALENDAR