BEGIN:VCALENDAR
VERSION:2.0
PRODID:-//直伝チャンネル - ECPv5.16.4//NONSGML v1.0//EN
CALSCALE:GREGORIAN
METHOD:PUBLISH
X-WR-CALNAME:直伝チャンネル
X-ORIGINAL-URL:https://xr.jikiden.co.jp
X-WR-CALDESC:直伝チャンネル のイベント
BEGIN:VTIMEZONE
TZID:Asia/Tokyo
BEGIN:STANDARD
TZOFFSETFROM:+0900
TZOFFSETTO:+0900
TZNAME:JST
DTSTART:20240101T000000
END:STANDARD
END:VTIMEZONE
BEGIN:VEVENT
DTSTART;TZID=Asia/Tokyo:20240321T200000
DTEND;TZID=Asia/Tokyo:20240321T210000
DTSTAMP:20260420T092732
CREATED:20240308T050855Z
LAST-MODIFIED:20240308T050855Z
UID:7911-1711051200-1711054800@xr.jikiden.co.jp
SUMMARY:IRセミナー：日立建機株式会社(6305)
DESCRIPTION:【タイムテーブル・注目ポイント】\n20:00～　日立建機株式会社（6305）　個人投資家向けIRセミナー\n当社は2022年に日立グループから独立し、「第2の創業」とも言える転換点を迎えています。当社独自の成長ストーリーをわかりやすくお伝えします。\n申込/視聴はこちら\n【スピーカー】\n小俣 貴之 氏\n日立建機株式会社 ブランド・コミュニケーション本部　広報・IR部　 担当部長\n\n【ゲスト/MC】\n坂本 慎太郎（Bコミ） 氏（元・ファンドマネージャー/元・ディーラー）
URL:https://xr.jikiden.co.jp/schedule/20240321
CATEGORIES:IR
END:VEVENT
END:VCALENDAR