BEGIN:VCALENDAR
VERSION:2.0
PRODID:-//直伝チャンネル - ECPv5.16.4//NONSGML v1.0//EN
CALSCALE:GREGORIAN
METHOD:PUBLISH
X-WR-CALNAME:直伝チャンネル
X-ORIGINAL-URL:https://xr.jikiden.co.jp
X-WR-CALDESC:直伝チャンネル のイベント
BEGIN:VTIMEZONE
TZID:Asia/Tokyo
BEGIN:STANDARD
TZOFFSETFROM:+0900
TZOFFSETTO:+0900
TZNAME:JST
DTSTART:20240101T000000
END:STANDARD
END:VTIMEZONE
BEGIN:VEVENT
DTSTART;TZID=Asia/Tokyo:20240612T200000
DTEND;TZID=Asia/Tokyo:20240612T210000
DTSTAMP:20260420T054222
CREATED:20240425T133944Z
LAST-MODIFIED:20240425T134222Z
UID:8012-1718222400-1718226000@xr.jikiden.co.jp
SUMMARY:日本郵船（9101）主催 個人投資家向け企業IRセミナー
DESCRIPTION:日本郵船グループは、世界情勢や環境の変化に伴い、海運はもちろん陸・空における物流や、その周辺サービスの拡充を進め、総合物流企業として活動の幅を広げてきました。2023年度から始まった中期経営計画では、総合物流企業の枠を超え、中核事業（コンテナ船事業等）の深化と新規事業（洋上風力関連事業等）の成長で、未来に必要な価値を共創することVisionとして掲げています。本説明会では、事業概要、業績、中期経営計画（株主還元を含む資本政策、環境対応等）を中心にご説明致します。\n申込/視聴はこちら\n【講演者】\n　代表取締役社長・社長執行役員　曽我 貴也　氏\n\n【参加資格】\n　どなたでもご視聴いただけます
URL:https://xr.jikiden.co.jp/schedule/20240612
CATEGORIES:IR
END:VEVENT
END:VCALENDAR