BEGIN:VCALENDAR
VERSION:2.0
PRODID:-//直伝チャンネル - ECPv5.16.4//NONSGML v1.0//EN
CALSCALE:GREGORIAN
METHOD:PUBLISH
X-WR-CALNAME:直伝チャンネル
X-ORIGINAL-URL:https://xr.jikiden.co.jp
X-WR-CALDESC:直伝チャンネル のイベント
BEGIN:VTIMEZONE
TZID:Asia/Tokyo
BEGIN:STANDARD
TZOFFSETFROM:+0900
TZOFFSETTO:+0900
TZNAME:JST
DTSTART:20240101T000000
END:STANDARD
END:VTIMEZONE
BEGIN:VEVENT
DTSTART;TZID=Asia/Tokyo:20240902T190000
DTEND;TZID=Asia/Tokyo:20240902T200000
DTSTAMP:20260420T005453
CREATED:20240809T034013Z
LAST-MODIFIED:20240809T034027Z
UID:8251-1725303600-1725307200@xr.jikiden.co.jp
SUMMARY:ギークス株式会社　個人投資家向けオンライン説明会
DESCRIPTION:ギークス株式会社は、9月2日（月）19:00より「個人投資家向け会社説明会」を開催いたします。\n説明会では、ギークス株式会社の企業理念、事業概要、今後の成長戦略及び2025年３月期第1四半期決算概要についてご説明いたします。\n平日のお忙しい時間帯ではございますが、是非ご参加くださいますよう、お願い申し上げます。\n申込/視聴はこちら\n【講演者】\nギークス株式会社　代表取締役CEO　曽根原 稔人氏\n\n【参加資格】\n事前申込不要\nセミナー当日18:45より先着1\,000名様が入室可能です。定員を上回った場合は視聴できませんのであらかじめご了承ください。スマートフォンでもご視聴いただけます。
URL:https://xr.jikiden.co.jp/schedule/20240902
CATEGORIES:IR
END:VEVENT
END:VCALENDAR