BEGIN:VCALENDAR
VERSION:2.0
PRODID:-//直伝チャンネル - ECPv5.16.4//NONSGML v1.0//EN
CALSCALE:GREGORIAN
METHOD:PUBLISH
X-WR-CALNAME:直伝チャンネル
X-ORIGINAL-URL:https://xr.jikiden.co.jp
X-WR-CALDESC:直伝チャンネル のイベント
BEGIN:VTIMEZONE
TZID:Asia/Tokyo
BEGIN:STANDARD
TZOFFSETFROM:+0900
TZOFFSETTO:+0900
TZNAME:JST
DTSTART:20240101T000000
END:STANDARD
END:VTIMEZONE
BEGIN:VEVENT
DTSTART;TZID=Asia/Tokyo:20241112T193000
DTEND;TZID=Asia/Tokyo:20241112T203000
DTSTAMP:20260420T173228
CREATED:20241101T002839Z
LAST-MODIFIED:20241101T002839Z
UID:8476-1731439800-1731443400@xr.jikiden.co.jp
SUMMARY:「2025年公的年金改正」どのような変更がありそうか？
DESCRIPTION:2024年7月に5年に一度行われる公的年金の財政検証が公表されました。昭和型モデル年金ではなく、働き方によって、どう年金額が変わるのかも示されています。\n本セミナーでは、CFPの井戸美枝氏に財政検証結果の解説や、適用拡大や女性の就労制限についての考え方、次期年金改正の方向性をお話しいただきます。ぜひご参加ください。\n申込/視聴はこちら【講師】\nCFP®、社会保険労務士\n井戸 美枝氏\n\n講演や執筆、テレビ、ラジオ出演などを通じ、生活に身近な経済問題をはじめ、年金・社会保障問題を専門とする。前社会保障審議会企業年金個人年金部会委員。国民年金基金連合会理事。日本FP協会理事。経済エッセイストとして活動。\n「難しいことでもわかりやすく」をモットーに数々の雑誌や新聞に連載を持つ。『一般論はもういいので、私の老後のお金「答え」をください！増補改訂版』（日経BP社）『親の終活 夫婦の老活』（朝日新書）「フリーランス大全」（エクスナレッジ）『好きなことを我慢しないで100万円貯める方法』（幻冬舎）など 累計刊行部数は92万部。\n\n【参加資格】\nご視聴には事前申し込みが必要です
URL:https://xr.jikiden.co.jp/schedule/20241112
CATEGORIES:その他
END:VEVENT
END:VCALENDAR