BEGIN:VCALENDAR
VERSION:2.0
PRODID:-//直伝チャンネル - ECPv5.16.4//NONSGML v1.0//EN
CALSCALE:GREGORIAN
METHOD:PUBLISH
X-WR-CALNAME:直伝チャンネル
X-ORIGINAL-URL:https://xr.jikiden.co.jp
X-WR-CALDESC:直伝チャンネル のイベント
BEGIN:VTIMEZONE
TZID:Asia/Tokyo
BEGIN:STANDARD
TZOFFSETFROM:+0900
TZOFFSETTO:+0900
TZNAME:JST
DTSTART:20240101T000000
END:STANDARD
END:VTIMEZONE
BEGIN:VEVENT
DTSTART;TZID=Asia/Tokyo:20241122T200000
DTEND;TZID=Asia/Tokyo:20241122T203000
DTSTAMP:20260419T222923
CREATED:20241004T010500Z
LAST-MODIFIED:20241004T010553Z
UID:8388-1732305600-1732307400@xr.jikiden.co.jp
SUMMARY:日本特殊陶業（5334）主催 個人投資家向け企業IRセミナー
DESCRIPTION:当社の80余年の歴史は、プラグの生産からスタートしました。その後、セラミクッスをコア技術として事業の多角化を図り、現在は主力の「自動車関連事業」での高収益を維持しながら、事業ポートフォリオの転換を図るため「セラミック事業」や「新規事業」の各分野においても、事業展開を加速しています。\n申込/視聴はこちら\n【講演者】\n　財務戦略室長　松本 丈治　氏\n\n【参加資格】\n　どなたでもご視聴いただけます
URL:https://xr.jikiden.co.jp/schedule/20241122
CATEGORIES:IR
END:VEVENT
END:VCALENDAR