BEGIN:VCALENDAR
VERSION:2.0
PRODID:-//直伝チャンネル - ECPv5.16.4//NONSGML v1.0//EN
CALSCALE:GREGORIAN
METHOD:PUBLISH
X-WR-CALNAME:直伝チャンネル
X-ORIGINAL-URL:https://xr.jikiden.co.jp
X-WR-CALDESC:直伝チャンネル のイベント
BEGIN:VTIMEZONE
TZID:Asia/Tokyo
BEGIN:STANDARD
TZOFFSETFROM:+0900
TZOFFSETTO:+0900
TZNAME:JST
DTSTART:20250101T000000
END:STANDARD
END:VTIMEZONE
BEGIN:VEVENT
DTSTART;TZID=Asia/Tokyo:20250219T200000
DTEND;TZID=Asia/Tokyo:20250219T210000
DTSTAMP:20260421T184025
CREATED:20250131T011027Z
LAST-MODIFIED:20250131T011127Z
UID:8779-1739995200-1739998800@xr.jikiden.co.jp
SUMMARY:全国保証株式会社 IR説明会
DESCRIPTION:2025年2月19日（水）に全国保証株式会社の個人投資家向けIR説明会をライブ配信いたします。\n本説明会では、全国保証株式会社 代表取締役社長 青木 裕一氏に事業内容、中期経営計画、株主還元についてご説明いただきます。\nぜひご参加ください。\n\n※本セミナーはIRセミナーであり、個別銘柄の売買を推奨するものではありません。登壇する各社から情報の提供を受けて実施しています。\n※本セミナーでは、参加者からのご質問を受け付けております。すべてのご質問にご回答できない可能性がありますことを、あらかじめご了承ください。\n申込/視聴はこちら\n\n【登壇企業のご案内】\n全国保証株式会社\n銘柄コード：7164\n\n全国保証は、1981年の設立以来、住宅ローン保証を中心とした信用保証事業を展開しています。北海道から九州まで全国に拠点を設け、現在では700を超える金融機関と提携しています。\n当社が保証する住宅ローンの金額は18兆円を超え、その規模は国内最大級となりました。現在も規模の拡大を継続し、多くのお客様の「マイホーム購入の夢」や「幸せな生活の実現」をお手伝いしています。\n\n全国保証株式会社のサイトはこちらから\n\n【講師】\n\n青木 裕一氏\n全国保証株式会社\n代表取締役社長\n\n主な略歴\n\n    2002年全国保証株式会社入社\n    2015年当社取締役管理本部長兼経営企画部長\n    2018年同常務取締役管理本部長兼経営企画部長\n    2020年同常務取締役管理本部長\n    東和信用保証株式会社（現みのり信用保証株式会社）代表取締役社長\n    2021年筑波信用保証株式会社代表取締役社長\n    2023年当社代表取締役社長管理本部長\n    2023年同代表取締役社長（現任）\n\n【参加資格】\n※事前の参加申し込みが必要なセミナーです。\n　2025年1月17日（金）～2月17日（月）まで\n※楽天証券に口座をお持ちのお客様
URL:https://xr.jikiden.co.jp/schedule/20250219-2
CATEGORIES:IR
END:VEVENT
END:VCALENDAR