BEGIN:VCALENDAR
VERSION:2.0
PRODID:-//直伝チャンネル - ECPv5.16.4//NONSGML v1.0//EN
CALSCALE:GREGORIAN
METHOD:PUBLISH
X-WR-CALNAME:直伝チャンネル
X-ORIGINAL-URL:https://xr.jikiden.co.jp
X-WR-CALDESC:直伝チャンネル のイベント
BEGIN:VTIMEZONE
TZID:Asia/Tokyo
BEGIN:STANDARD
TZOFFSETFROM:+0900
TZOFFSETTO:+0900
TZNAME:JST
DTSTART:20250101T000000
END:STANDARD
END:VTIMEZONE
BEGIN:VEVENT
DTSTART;TZID=Asia/Tokyo:20251120T200000
DTEND;TZID=Asia/Tokyo:20251120T213000
DTSTAMP:20260422T022351
CREATED:20251114T014153Z
LAST-MODIFIED:20251114T014235Z
UID:9509-1763668800-1763674200@xr.jikiden.co.jp
SUMMARY:ハッチの米国株マーケットセミナー　特別ゲスト！個人投資家・ナスダッ子氏
DESCRIPTION:毎月、チーフ・外国株コンサルタントの岡元兵八郎（ハッチ）が、米国株情報をわかりやすく解説するオンラインセミナーを開催しています。ハッチによる市況コメントや個別銘柄分析に加え、11月は個人投資家・ナスダッ子氏をお招きし、米国株投資のきっかけや投資哲学について対談します！米国株初心者から中上級者の方までご満足いただける内容です。 \n申込/視聴はこちら\n\n【1つ目の見どころ】\n米TradeStation Groupデイビッド氏が現地米国より最新の取引動向をレポート！\n原則毎回、TradeStation Group グローバル市場戦略責任者のデイビッド・ラッセル氏（David Russell）をお迎えし、米国個人投資家の取引動向を、現地からレポートいただいています。Bloomberg News、CNBC、E*TRADE Financialなどで金融ジャーナリストおよびアナリストとして20年近くの豊富なキャリアを持つ、デイビッド氏による最新情報をお見逃しなく。\n\n【2つ目の見どころ】\n米国株のプロ、岡元兵八郎（ハッチ）による市場動向のアップデート！\n\nマネックス証券株式会社\nチーフ・外国株コンサルタント 兼 マネックス・ユニバーシティ シニアフェロー\n岡元 兵八郎氏\n\n上智大学を卒業後、ソロモン・ブラザーズ証券（現シティグループ証券）入社。東京、ニューヨーク本社勤務を含め26年間同社にて一貫して外国株式のマーケティング、外国株式関連商品業務に携わり、外国株式部の上級管理職として機関投資家相手の外国株式ビジネスの拡大に努める。新しい海外株式市場への投資への啓蒙活動を精力的に行い、日本の機関投資家が世界54ヶ国の株式市場へ投資を行うサポートを行ってきた。\nその後4年半はSMBC日興証券株式会社で、エクイティ部、投資情報部にて米国株式市場・企業情報の情報収集、分析、顧客向け資料作成業務の責任者として、個人投資家向けに米国株式投資の啓蒙活動を行うなどし米国株式仲介事業の拡大に貢献。\n北米滞在10年、世界80ヶ国を訪問、33ヶ国を超える北南米、アジア、欧州、アフリカの証券取引所、証券会社、上場企業のマネージメントへの訪問を行うなど、グローバルな金融サービス部門において確かな実績を築く。\n2019年10月より現職。\n\n＜主な著書＞\n「日本人が知らない海外投資の儲け方」（ダイヤモンド社）\n「資産を増やす米国株投資入門」（ビジネス社）\n\n【3つ目の見どころ】\n日本国内に限らず、海外大手企業のIR責任者や、運用責任者との対談を行うことがあります。\n※独占インタビューにつきましては、毎回の開催ではないことをご了承ください。\n\n【11月の特別ゲスト】\n個人投資家\nナスダッ子 氏\n2017年（当時55歳）に6\,000万円で株式投資を始め、8年半で4億を達成。26歳から約30年間専業主婦として過ごし、現在は米国株投資のほか、自身のセレクトショップを開業し活躍中。X（フォロワー数1.8万人）などを通じて、積極的に投資情報を発信中。\nナスダッ子 氏とハッチが対談形式で、米国株投資のきっかけや投資哲学について語り合います。\n\n【参加資格】\n事前申込不要\nマネックス証券に証券総合取引口座をお持ちのお客様
URL:https://xr.jikiden.co.jp/schedule/20251120-2
CATEGORIES:海外投資
END:VEVENT
END:VCALENDAR