BEGIN:VCALENDAR
VERSION:2.0
PRODID:-//直伝チャンネル - ECPv5.16.4//NONSGML v1.0//EN
CALSCALE:GREGORIAN
METHOD:PUBLISH
X-WR-CALNAME:直伝チャンネル
X-ORIGINAL-URL:https://xr.jikiden.co.jp
X-WR-CALDESC:直伝チャンネル のイベント
BEGIN:VTIMEZONE
TZID:Asia/Tokyo
BEGIN:STANDARD
TZOFFSETFROM:+0900
TZOFFSETTO:+0900
TZNAME:JST
DTSTART:20150101T000000
END:STANDARD
END:VTIMEZONE
BEGIN:VEVENT
DTSTART;TZID=Asia/Tokyo:20150820T203000
DTEND;TZID=Asia/Tokyo:20150820T213000
DTSTAMP:20260420T204147
CREATED:20150723T143944Z
LAST-MODIFIED:20150723T143944Z
UID:463-1440102600-1440106200@xr.jikiden.co.jp
SUMMARY:9月以降、動きやすい通貨の徹底分析＆売買戦略
DESCRIPTION:チャート分析を駆使し、相場の変化を察知！\n秋口からの方向性と投資戦略を、徹底解説\n       \n・ドル円、ユーロ円、豪ドル円…「旬」の通貨を探る\n・秋以降のトレンドをテクニカル分析で先取り\n\n■講師紹介\n川合 美智子氏\n(株)ワカバヤシ エフエックス アソシエイツ代表取締役 兼 外国為替ストラテジスト。罫線分析を基にした為替相場コメントには定評がある。\n\n■定員\n500名様\n（お申込者多数の場合は、\nその時点で受付終了となる場合もございますので予めご了承ください。）\n\n申し込みはこちら
URL:https://xr.jikiden.co.jp/schedule/9%e6%9c%88%e4%bb%a5%e9%99%8d%e3%80%81%e5%8b%95%e3%81%8d%e3%82%84%e3%81%99%e3%81%84%e9%80%9a%e8%b2%a8%e3%81%ae%e5%be%b9%e5%ba%95%e5%88%86%e6%9e%90%ef%bc%86%e5%a3%b2%e8%b2%b7%e6%88%a6%e7%95%a5
CATEGORIES:FX
END:VEVENT
END:VCALENDAR